BEGIN:VCALENDAR
VERSION:2.0
PRODID:-//Andreaskyrkan Luleå - ECPv6.15.18//NONSGML v1.0//EN
CALSCALE:GREGORIAN
METHOD:PUBLISH
X-WR-CALNAME:Andreaskyrkan Luleå
X-ORIGINAL-URL:https://equmeniakyrkan.se/andreaskyrkanlulea
X-WR-CALDESC:Händelser för Andreaskyrkan Luleå
REFRESH-INTERVAL;VALUE=DURATION:PT1H
X-Robots-Tag:noindex
X-PUBLISHED-TTL:PT1H
BEGIN:VTIMEZONE
TZID:Europe/Stockholm
BEGIN:DAYLIGHT
TZOFFSETFROM:+0100
TZOFFSETTO:+0200
TZNAME:CEST
DTSTART:20250330T010000
END:DAYLIGHT
BEGIN:STANDARD
TZOFFSETFROM:+0200
TZOFFSETTO:+0100
TZNAME:CET
DTSTART:20251026T010000
END:STANDARD
BEGIN:DAYLIGHT
TZOFFSETFROM:+0100
TZOFFSETTO:+0200
TZNAME:CEST
DTSTART:20260329T010000
END:DAYLIGHT
BEGIN:STANDARD
TZOFFSETFROM:+0200
TZOFFSETTO:+0100
TZNAME:CET
DTSTART:20261025T010000
END:STANDARD
BEGIN:DAYLIGHT
TZOFFSETFROM:+0100
TZOFFSETTO:+0200
TZNAME:CEST
DTSTART:20270328T010000
END:DAYLIGHT
BEGIN:STANDARD
TZOFFSETFROM:+0200
TZOFFSETTO:+0100
TZNAME:CET
DTSTART:20271031T010000
END:STANDARD
END:VTIMEZONE
BEGIN:VEVENT
DTSTART;TZID=Europe/Stockholm:20260419T110000
DTEND;TZID=Europe/Stockholm:20260419T130000
DTSTAMP:20260420T013257
CREATED:20260225T000952Z
LAST-MODIFIED:20260225T000952Z
UID:10001268-1776596400-1776603600@equmeniakyrkan.se
SUMMARY:11.00 Gudstjänst
DESCRIPTION:Välkommen att fira gudstjänst med oss! Gudrun Back predikar. Servering efteråt
URL:https://equmeniakyrkan.se/andreaskyrkanlulea/kalender/11-00-gudstjanst-19/
CATEGORIES:Gudstjänst,Kalender
ATTACH;FMTTYPE=image/jpeg:https://equmeniakyrkan.se/andreaskyrkanlulea/wp-content/uploads/sites/95/2023/10/20220501-184115-scaled-e1771977589966.jpg
END:VEVENT
BEGIN:VEVENT
DTSTART;TZID=Europe/Stockholm:20260419T130000
DTEND;TZID=Europe/Stockholm:20260419T150000
DTSTAMP:20260420T013257
CREATED:20240622T182808Z
LAST-MODIFIED:20240622T182808Z
UID:10000618-1776603600-1776610800@equmeniakyrkan.se
SUMMARY:13.00 Karenspråkig gudstjänst
DESCRIPTION:Karenerna inbjuder till gudstjänst\, hålls i regel varje söndag. Välkomna!
URL:https://equmeniakyrkan.se/andreaskyrkanlulea/kalender/13-00-karensprakig-gudstjanst/2026-04-19/
CATEGORIES:Gudstjänst,Kalender,På gång
ATTACH;FMTTYPE=image/jpeg:https://equmeniakyrkan.se/andreaskyrkanlulea/wp-content/uploads/sites/95/2022/04/20210327-180633-scaled.jpg
END:VEVENT
END:VCALENDAR