BEGIN:VCALENDAR
VERSION:2.0
PRODID:-//Betlehemskyrkan Örebro - ECPv6.15.18//NONSGML v1.0//EN
CALSCALE:GREGORIAN
METHOD:PUBLISH
X-WR-CALNAME:Betlehemskyrkan Örebro
X-ORIGINAL-URL:https://equmeniakyrkan.se/betlehemskyrkan
X-WR-CALDESC:Händelser för Betlehemskyrkan Örebro
REFRESH-INTERVAL;VALUE=DURATION:PT1H
X-Robots-Tag:noindex
X-PUBLISHED-TTL:PT1H
BEGIN:VTIMEZONE
TZID:Europe/Stockholm
BEGIN:DAYLIGHT
TZOFFSETFROM:+0100
TZOFFSETTO:+0200
TZNAME:CEST
DTSTART:20250330T010000
END:DAYLIGHT
BEGIN:STANDARD
TZOFFSETFROM:+0200
TZOFFSETTO:+0100
TZNAME:CET
DTSTART:20251026T010000
END:STANDARD
BEGIN:DAYLIGHT
TZOFFSETFROM:+0100
TZOFFSETTO:+0200
TZNAME:CEST
DTSTART:20260329T010000
END:DAYLIGHT
BEGIN:STANDARD
TZOFFSETFROM:+0200
TZOFFSETTO:+0100
TZNAME:CET
DTSTART:20261025T010000
END:STANDARD
BEGIN:DAYLIGHT
TZOFFSETFROM:+0100
TZOFFSETTO:+0200
TZNAME:CEST
DTSTART:20270328T010000
END:DAYLIGHT
BEGIN:STANDARD
TZOFFSETFROM:+0200
TZOFFSETTO:+0100
TZNAME:CET
DTSTART:20271031T010000
END:STANDARD
END:VTIMEZONE
BEGIN:VEVENT
DTSTART;TZID=Europe/Stockholm:20260421T100000
DTEND;TZID=Europe/Stockholm:20260421T100000
DTSTAMP:20260420T213028
CREATED:20260217T095653Z
LAST-MODIFIED:20260217T095745Z
UID:10011014-1776765600-1776765600@equmeniakyrkan.se
SUMMARY:Äntligen Tisdag
DESCRIPTION:
URL:https://equmeniakyrkan.se/betlehemskyrkan/kalender/5407/
END:VEVENT
BEGIN:VEVENT
DTSTART;TZID=Europe/Stockholm:20260421T140000
DTEND;TZID=Europe/Stockholm:20260421T140000
DTSTAMP:20260420T213028
CREATED:20260217T095828Z
LAST-MODIFIED:20260217T095835Z
UID:10011015-1776780000-1776780000@equmeniakyrkan.se
SUMMARY:Pilgrim i parken
DESCRIPTION:
URL:https://equmeniakyrkan.se/betlehemskyrkan/kalender/pilgrim-i-parken-4/
END:VEVENT
BEGIN:VEVENT
DTSTART;VALUE=DATE:20260422
DTEND;VALUE=DATE:20260423
DTSTAMP:20260420T213028
CREATED:20260217T095934Z
LAST-MODIFIED:20260217T095939Z
UID:10011016-1776816000-1776902399@equmeniakyrkan.se
SUMMARY:Musiken övar
DESCRIPTION:Engelkören 15:30 \nBK Blås 17:00 \nKören 19:00
URL:https://equmeniakyrkan.se/betlehemskyrkan/kalender/musiken-ovar-17/
END:VEVENT
BEGIN:VEVENT
DTSTART;TZID=Europe/Stockholm:20260425T180000
DTEND;TZID=Europe/Stockholm:20260425T180000
DTSTAMP:20260420T213028
CREATED:20260217T100032Z
LAST-MODIFIED:20260217T100036Z
UID:10011017-1777140000-1777140000@equmeniakyrkan.se
SUMMARY:Psaltarkonsert i Hagakyrkan
DESCRIPTION:
URL:https://equmeniakyrkan.se/betlehemskyrkan/kalender/psaltarkonsert-i-hagakyrkan/
END:VEVENT
BEGIN:VEVENT
DTSTART;TZID=Europe/Stockholm:20260426T100000
DTEND;TZID=Europe/Stockholm:20260426T100000
DTSTAMP:20260420T213028
CREATED:20260217T100134Z
LAST-MODIFIED:20260405T154110Z
UID:10011018-1777197600-1777197600@equmeniakyrkan.se
SUMMARY:Gudstjänst i Betlehemskyrkan
DESCRIPTION:Susanna Ehlde
URL:https://equmeniakyrkan.se/betlehemskyrkan/kalender/gudstjanst-i-betlehemskyrkan-19/
END:VEVENT
BEGIN:VEVENT
DTSTART;TZID=Europe/Stockholm:20260428T100000
DTEND;TZID=Europe/Stockholm:20260428T100000
DTSTAMP:20260420T213028
CREATED:20260217T100230Z
LAST-MODIFIED:20260217T100259Z
UID:10011019-1777370400-1777370400@equmeniakyrkan.se
SUMMARY:Äntligen Tisdag
DESCRIPTION:
URL:https://equmeniakyrkan.se/betlehemskyrkan/kalender/5418/
END:VEVENT
BEGIN:VEVENT
DTSTART;TZID=Europe/Stockholm:20260428T133000
DTEND;TZID=Europe/Stockholm:20260428T133000
DTSTAMP:20260420T213028
CREATED:20260217T100411Z
LAST-MODIFIED:20260217T100415Z
UID:10011020-1777383000-1777383000@equmeniakyrkan.se
SUMMARY:Med religiösa glasögon
DESCRIPTION:
URL:https://equmeniakyrkan.se/betlehemskyrkan/kalender/med-religiosa-glasogon-6/
END:VEVENT
BEGIN:VEVENT
DTSTART;VALUE=DATE:20260429
DTEND;VALUE=DATE:20260430
DTSTAMP:20260420T213028
CREATED:20260217T100513Z
LAST-MODIFIED:20260217T100517Z
UID:10011021-1777420800-1777507199@equmeniakyrkan.se
SUMMARY:Musiken övar
DESCRIPTION:Engelkören 15:30 \nBK Blås 17:00 \nKören 19:00
URL:https://equmeniakyrkan.se/betlehemskyrkan/kalender/musiken-ovar-18/
END:VEVENT
BEGIN:VEVENT
DTSTART;TZID=Europe/Stockholm:20260503T100000
DTEND;TZID=Europe/Stockholm:20260503T100000
DTSTAMP:20260420T213028
CREATED:20260217T100640Z
LAST-MODIFIED:20260217T100644Z
UID:10011022-1777802400-1777802400@equmeniakyrkan.se
SUMMARY:Gudstjänst i Betlehemskyrkan
DESCRIPTION:Petter Hermansson \nCamilla Wargert
URL:https://equmeniakyrkan.se/betlehemskyrkan/kalender/gudstjanst-i-betlehemskyrkan-20/
END:VEVENT
BEGIN:VEVENT
DTSTART;TZID=Europe/Stockholm:20260504T150000
DTEND;TZID=Europe/Stockholm:20260504T150000
DTSTAMP:20260420T213028
CREATED:20260309T154621Z
LAST-MODIFIED:20260309T154621Z
UID:10011041-1777906800-1777906800@equmeniakyrkan.se
SUMMARY:Klimatcirkeln
DESCRIPTION:
URL:https://equmeniakyrkan.se/betlehemskyrkan/kalender/klimatcirkeln-7/
END:VEVENT
BEGIN:VEVENT
DTSTART;TZID=Europe/Stockholm:20260505T100000
DTEND;TZID=Europe/Stockholm:20260505T100000
DTSTAMP:20260420T213028
CREATED:20260217T100742Z
LAST-MODIFIED:20260217T100746Z
UID:10011023-1777975200-1777975200@equmeniakyrkan.se
SUMMARY:Äntligen Tisdag
DESCRIPTION:
URL:https://equmeniakyrkan.se/betlehemskyrkan/kalender/antligen-tisdag-15/
END:VEVENT
BEGIN:VEVENT
DTSTART;VALUE=DATE:20260506
DTEND;VALUE=DATE:20260507
DTSTAMP:20260420T213028
CREATED:20260217T100841Z
LAST-MODIFIED:20260217T100845Z
UID:10011024-1778025600-1778111999@equmeniakyrkan.se
SUMMARY:Musiken övar
DESCRIPTION:Engelkören 15:30 \nBK Blås 17:00 \nKören 19:00
URL:https://equmeniakyrkan.se/betlehemskyrkan/kalender/musiken-ovar-19/
END:VEVENT
BEGIN:VEVENT
DTSTART;TZID=Europe/Stockholm:20260507T180000
DTEND;TZID=Europe/Stockholm:20260507T180000
DTSTAMP:20260420T213028
CREATED:20260217T100948Z
LAST-MODIFIED:20260217T100952Z
UID:10011025-1778176800-1778176800@equmeniakyrkan.se
SUMMARY:Samtalskväll i Betelkyrkan
DESCRIPTION:Plats för hela livet
URL:https://equmeniakyrkan.se/betlehemskyrkan/kalender/samtalskvall-i-betelkyrkan-5/
END:VEVENT
BEGIN:VEVENT
DTSTART;TZID=Europe/Stockholm:20260510T170000
DTEND;TZID=Europe/Stockholm:20260510T170000
DTSTAMP:20260420T213028
CREATED:20260217T101138Z
LAST-MODIFIED:20260217T101142Z
UID:10011026-1778432400-1778432400@equmeniakyrkan.se
SUMMARY:Gudstjänst i Betlehemskyrkan
DESCRIPTION:Rajan Gandamall \nAnnaMaria Thyresson Hedin
URL:https://equmeniakyrkan.se/betlehemskyrkan/kalender/gudstjanst-i-betlehemskyrkan-21/
END:VEVENT
BEGIN:VEVENT
DTSTART;TZID=Europe/Stockholm:20260512T100000
DTEND;TZID=Europe/Stockholm:20260512T100000
DTSTAMP:20260420T213028
CREATED:20260217T101239Z
LAST-MODIFIED:20260217T101243Z
UID:10011027-1778580000-1778580000@equmeniakyrkan.se
SUMMARY:Äntligen Tisdag
DESCRIPTION:
URL:https://equmeniakyrkan.se/betlehemskyrkan/kalender/antligen-tisdag-16/
END:VEVENT
BEGIN:VEVENT
DTSTART;TZID=Europe/Stockholm:20260512T133000
DTEND;TZID=Europe/Stockholm:20260512T133000
DTSTAMP:20260420T213028
CREATED:20260217T101325Z
LAST-MODIFIED:20260217T101330Z
UID:10011028-1778592600-1778592600@equmeniakyrkan.se
SUMMARY:Spanarna
DESCRIPTION:
URL:https://equmeniakyrkan.se/betlehemskyrkan/kalender/spanarna-8/
END:VEVENT
BEGIN:VEVENT
DTSTART;VALUE=DATE:20260513
DTEND;VALUE=DATE:20260514
DTSTAMP:20260420T213028
CREATED:20260217T101627Z
LAST-MODIFIED:20260217T101631Z
UID:10011029-1778630400-1778716799@equmeniakyrkan.se
SUMMARY:Musiken övar
DESCRIPTION:Engelkören 15:30 (sista för terminen)
URL:https://equmeniakyrkan.se/betlehemskyrkan/kalender/musiken-ovar-20/
END:VEVENT
BEGIN:VEVENT
DTSTART;TZID=Europe/Stockholm:20260513T190000
DTEND;TZID=Europe/Stockholm:20260513T190000
DTSTAMP:20260420T213028
CREATED:20260217T101808Z
LAST-MODIFIED:20260217T101812Z
UID:10011030-1778698800-1778698800@equmeniakyrkan.se
SUMMARY:Vårcaprice
DESCRIPTION:Engelkören \nKören \nm.fl.
URL:https://equmeniakyrkan.se/betlehemskyrkan/kalender/varcaprice-2/
END:VEVENT
BEGIN:VEVENT
DTSTART;TZID=Europe/Stockholm:20260517T100000
DTEND;TZID=Europe/Stockholm:20260517T100000
DTSTAMP:20260420T213028
CREATED:20260217T101902Z
LAST-MODIFIED:20260217T101907Z
UID:10011031-1779012000-1779012000@equmeniakyrkan.se
SUMMARY:Gudstjänst i Betlehemskyrkan
DESCRIPTION:
URL:https://equmeniakyrkan.se/betlehemskyrkan/kalender/gudstjanst-i-betlehemskyrkan-22/
END:VEVENT
BEGIN:VEVENT
DTSTART;TZID=Europe/Stockholm:20260518T150000
DTEND;TZID=Europe/Stockholm:20260518T150000
DTSTAMP:20260420T213028
CREATED:20260309T154700Z
LAST-MODIFIED:20260309T154700Z
UID:10011042-1779116400-1779116400@equmeniakyrkan.se
SUMMARY:Klimatcirkeln
DESCRIPTION:
URL:https://equmeniakyrkan.se/betlehemskyrkan/kalender/klimatcirkeln-8/
END:VEVENT
BEGIN:VEVENT
DTSTART;TZID=Europe/Stockholm:20260519T100000
DTEND;TZID=Europe/Stockholm:20260519T100000
DTSTAMP:20260420T213028
CREATED:20260217T101954Z
LAST-MODIFIED:20260217T101958Z
UID:10011032-1779184800-1779184800@equmeniakyrkan.se
SUMMARY:Äntligen Tisdag
DESCRIPTION:
URL:https://equmeniakyrkan.se/betlehemskyrkan/kalender/antligen-tisdag-17/
END:VEVENT
BEGIN:VEVENT
DTSTART;TZID=Europe/Stockholm:20260519T140000
DTEND;TZID=Europe/Stockholm:20260519T140000
DTSTAMP:20260420T213028
CREATED:20260217T102040Z
LAST-MODIFIED:20260217T102044Z
UID:10011033-1779199200-1779199200@equmeniakyrkan.se
SUMMARY:Pilgrim i parken
DESCRIPTION:
URL:https://equmeniakyrkan.se/betlehemskyrkan/kalender/pilgrim-i-parken-5/
END:VEVENT
BEGIN:VEVENT
DTSTART;VALUE=DATE:20260520
DTEND;VALUE=DATE:20260521
DTSTAMP:20260420T213028
CREATED:20260217T102138Z
LAST-MODIFIED:20260217T102142Z
UID:10011034-1779235200-1779321599@equmeniakyrkan.se
SUMMARY:Musiken övar
DESCRIPTION:BK Blås 17:00 \nKören 19:00
URL:https://equmeniakyrkan.se/betlehemskyrkan/kalender/musiken-ovar-21/
END:VEVENT
BEGIN:VEVENT
DTSTART;TZID=Europe/Stockholm:20260524T100000
DTEND;TZID=Europe/Stockholm:20260524T100000
DTSTAMP:20260420T213028
CREATED:20260217T102259Z
LAST-MODIFIED:20260217T102304Z
UID:10011035-1779616800-1779616800@equmeniakyrkan.se
SUMMARY:Pingstdagsgudstjänst i Betlehemskyrkan
DESCRIPTION:Petter Hermansson \nKören \nFörsamlingsmöte
URL:https://equmeniakyrkan.se/betlehemskyrkan/kalender/pingstdagsgudstjanst-i-betlehemskyrkan/
END:VEVENT
BEGIN:VEVENT
DTSTART;TZID=Europe/Stockholm:20260526T100000
DTEND;TZID=Europe/Stockholm:20260526T100000
DTSTAMP:20260420T213028
CREATED:20260217T102354Z
LAST-MODIFIED:20260217T102358Z
UID:10011036-1779789600-1779789600@equmeniakyrkan.se
SUMMARY:Äntligen tisdag
DESCRIPTION:
URL:https://equmeniakyrkan.se/betlehemskyrkan/kalender/antligen-tisdag-18/
END:VEVENT
BEGIN:VEVENT
DTSTART;TZID=Europe/Stockholm:20260526T133000
DTEND;TZID=Europe/Stockholm:20260526T133000
DTSTAMP:20260420T213028
CREATED:20260217T102452Z
LAST-MODIFIED:20260217T102456Z
UID:10011037-1779802200-1779802200@equmeniakyrkan.se
SUMMARY:Med religiösa glasögon
DESCRIPTION:
URL:https://equmeniakyrkan.se/betlehemskyrkan/kalender/med-religiosa-glasogon-7/
END:VEVENT
BEGIN:VEVENT
DTSTART;TZID=Europe/Stockholm:20260531T100000
DTEND;TZID=Europe/Stockholm:20260531T100000
DTSTAMP:20260420T213028
CREATED:20260217T102556Z
LAST-MODIFIED:20260217T102600Z
UID:10011038-1780221600-1780221600@equmeniakyrkan.se
SUMMARY:Konfirmationsgudstjänst i Betlehemskyrkan
DESCRIPTION:Petter Hermansson
URL:https://equmeniakyrkan.se/betlehemskyrkan/kalender/konfirmationsgudstjanst-i-betlehemskyrkan/
END:VEVENT
END:VCALENDAR