BEGIN:VCALENDAR
VERSION:2.0
PRODID:-//Equmeniakyrkan Dals-Ed - ECPv6.15.18//NONSGML v1.0//EN
CALSCALE:GREGORIAN
METHOD:PUBLISH
X-WR-CALNAME:Equmeniakyrkan Dals-Ed
X-ORIGINAL-URL:https://equmeniakyrkan.se/dalsed
X-WR-CALDESC:Händelser för Equmeniakyrkan Dals-Ed
REFRESH-INTERVAL;VALUE=DURATION:PT1H
X-Robots-Tag:noindex
X-PUBLISHED-TTL:PT1H
BEGIN:VTIMEZONE
TZID:Europe/Stockholm
BEGIN:DAYLIGHT
TZOFFSETFROM:+0100
TZOFFSETTO:+0200
TZNAME:CEST
DTSTART:20250330T010000
END:DAYLIGHT
BEGIN:STANDARD
TZOFFSETFROM:+0200
TZOFFSETTO:+0100
TZNAME:CET
DTSTART:20251026T010000
END:STANDARD
BEGIN:DAYLIGHT
TZOFFSETFROM:+0100
TZOFFSETTO:+0200
TZNAME:CEST
DTSTART:20260329T010000
END:DAYLIGHT
BEGIN:STANDARD
TZOFFSETFROM:+0200
TZOFFSETTO:+0100
TZNAME:CET
DTSTART:20261025T010000
END:STANDARD
BEGIN:DAYLIGHT
TZOFFSETFROM:+0100
TZOFFSETTO:+0200
TZNAME:CEST
DTSTART:20270328T010000
END:DAYLIGHT
BEGIN:STANDARD
TZOFFSETFROM:+0200
TZOFFSETTO:+0100
TZNAME:CET
DTSTART:20271031T010000
END:STANDARD
END:VTIMEZONE
BEGIN:VEVENT
DTSTART;TZID=Europe/Stockholm:20260422T103000
DTEND;TZID=Europe/Stockholm:20260422T123000
DTSTAMP:20260424T100203
CREATED:20260207T164909Z
LAST-MODIFIED:20260220T154345Z
UID:10002757-1776853800-1776861000@equmeniakyrkan.se
SUMMARY:Onsdagscafé i Equmeniakyrkan
DESCRIPTION:Just du är välkommen till vårt café\, \nOm du behöver: \n\nFika tillsammans med andra.\nTycker att livet känns ensamt.\nKnyta nya kontakter.\nBara komma hemifrån en stund.\nBjuda en vän på fika.\nTa med en ensam släkting\,  vän eller barn och kom!\n\nNär vi pratat och fikat färdigt erbjuds du att delta i en gemensam andakt. \nVälkomna till Equmeniakyrkan på onsdagar! \n 
URL:https://equmeniakyrkan.se/dalsed/kalender/onsdagscafe-i-equmeniakyrkan-6/2026-04-22/
LOCATION:Equmeniakyrkan Dals-Ed\, Marebacken 2\, Dals-Ed\, 66831
CATEGORIES:Cafe´
ATTACH;FMTTYPE=image/jpeg:https://equmeniakyrkan.se/dalsed/wp-content/uploads/sites/122/2021/08/img-2334-scaled.jpeg
END:VEVENT
BEGIN:VEVENT
DTSTART;TZID=Europe/Stockholm:20260422T190000
DTEND;TZID=Europe/Stockholm:20260422T210000
DTSTAMP:20260424T100203
CREATED:20260111T152251Z
LAST-MODIFIED:20260224T110207Z
UID:10002761-1776884400-1776891600@equmeniakyrkan.se
SUMMARY:EQ-blåset övar
DESCRIPTION:Just du är välkommen\, som någon gång har spelat något blåsinstrument. \nVi är ett gäng på mellan 5-10 blåsare\, som plockat fram våra instrument och försöker få liv i dom. \nSå vi tycker att också du ska damma av ditt instrument och öva med oss. \nVi har inte några höga krav utan du kan komma och känna efter hur det känns. \nFramför allt har vi roligt tillsammans och märker att vi gör framsteg.
URL:https://equmeniakyrkan.se/dalsed/kalender/eq-blaset-ovar-5/2026-04-22/
LOCATION:Equmeniakyrkan Dals-Ed\, Marebacken 2\, Dals-Ed\, 66831
ATTACH;FMTTYPE=image/jpeg:https://equmeniakyrkan.se/dalsed/wp-content/uploads/sites/122/2023/08/image.jpeg
END:VEVENT
END:VCALENDAR