BEGIN:VCALENDAR
VERSION:2.0
PRODID:-//Equmeniakyrkan Forshaga - ECPv6.15.18//NONSGML v1.0//EN
CALSCALE:GREGORIAN
METHOD:PUBLISH
X-WR-CALNAME:Equmeniakyrkan Forshaga
X-ORIGINAL-URL:https://equmeniakyrkan.se/forshaga
X-WR-CALDESC:Händelser för Equmeniakyrkan Forshaga
REFRESH-INTERVAL;VALUE=DURATION:PT1H
X-Robots-Tag:noindex
X-PUBLISHED-TTL:PT1H
BEGIN:VTIMEZONE
TZID:Europe/Stockholm
BEGIN:DAYLIGHT
TZOFFSETFROM:+0100
TZOFFSETTO:+0200
TZNAME:CEST
DTSTART:20250330T010000
END:DAYLIGHT
BEGIN:STANDARD
TZOFFSETFROM:+0200
TZOFFSETTO:+0100
TZNAME:CET
DTSTART:20251026T010000
END:STANDARD
BEGIN:DAYLIGHT
TZOFFSETFROM:+0100
TZOFFSETTO:+0200
TZNAME:CEST
DTSTART:20260329T010000
END:DAYLIGHT
BEGIN:STANDARD
TZOFFSETFROM:+0200
TZOFFSETTO:+0100
TZNAME:CET
DTSTART:20261025T010000
END:STANDARD
BEGIN:DAYLIGHT
TZOFFSETFROM:+0100
TZOFFSETTO:+0200
TZNAME:CEST
DTSTART:20270328T010000
END:DAYLIGHT
BEGIN:STANDARD
TZOFFSETFROM:+0200
TZOFFSETTO:+0100
TZNAME:CET
DTSTART:20271031T010000
END:STANDARD
END:VTIMEZONE
BEGIN:VEVENT
DTSTART;TZID=Europe/Stockholm:20260421T100000
DTEND;TZID=Europe/Stockholm:20260421T120000
DTSTAMP:20260424T150115
CREATED:20260420T123618Z
LAST-MODIFIED:20260420T123619Z
UID:10000891-1776765600-1776772800@equmeniakyrkan.se
SUMMARY:Bibelsamtal - inställt idag
DESCRIPTION:Vi läser bibeln och samtalar om innehållet och livet.
URL:https://equmeniakyrkan.se/forshaga/kalender/bibelsamtal-4-2/
LOCATION:Equmeniakyrkan Forshaga\, Storgatan 42\, Forshaga\, 66730\, Sweden
CATEGORIES:Bibelsamtal
ATTACH;FMTTYPE=image/jpeg:https://equmeniakyrkan.se/forshaga/wp-content/uploads/sites/318/2024/12/kyrkan.jpg
END:VEVENT
END:VCALENDAR