BEGIN:VCALENDAR
VERSION:2.0
PRODID:-//Equmeniakyrkan Forshaga - ECPv6.15.18//NONSGML v1.0//EN
CALSCALE:GREGORIAN
METHOD:PUBLISH
X-WR-CALNAME:Equmeniakyrkan Forshaga
X-ORIGINAL-URL:https://equmeniakyrkan.se/forshaga
X-WR-CALDESC:Händelser för Equmeniakyrkan Forshaga
REFRESH-INTERVAL;VALUE=DURATION:PT1H
X-Robots-Tag:noindex
X-PUBLISHED-TTL:PT1H
BEGIN:VTIMEZONE
TZID:Europe/Stockholm
BEGIN:DAYLIGHT
TZOFFSETFROM:+0100
TZOFFSETTO:+0200
TZNAME:CEST
DTSTART:20250330T010000
END:DAYLIGHT
BEGIN:STANDARD
TZOFFSETFROM:+0200
TZOFFSETTO:+0100
TZNAME:CET
DTSTART:20251026T010000
END:STANDARD
BEGIN:DAYLIGHT
TZOFFSETFROM:+0100
TZOFFSETTO:+0200
TZNAME:CEST
DTSTART:20260329T010000
END:DAYLIGHT
BEGIN:STANDARD
TZOFFSETFROM:+0200
TZOFFSETTO:+0100
TZNAME:CET
DTSTART:20261025T010000
END:STANDARD
BEGIN:DAYLIGHT
TZOFFSETFROM:+0100
TZOFFSETTO:+0200
TZNAME:CEST
DTSTART:20270328T010000
END:DAYLIGHT
BEGIN:STANDARD
TZOFFSETFROM:+0200
TZOFFSETTO:+0100
TZNAME:CET
DTSTART:20271031T010000
END:STANDARD
END:VTIMEZONE
BEGIN:VEVENT
DTSTART;TZID=Europe/Stockholm:20260422T120000
DTEND;TZID=Europe/Stockholm:20260422T150000
DTSTAMP:20260422T145419
CREATED:20250812T201329Z
LAST-MODIFIED:20250812T201329Z
UID:10000604-1776859200-1776870000@equmeniakyrkan.se
SUMMARY:Jossans Café
DESCRIPTION:JOSSANS CAFÉ \nOnsdagar 12.30 – 15.00\nFredagar 12.00 – 15.00
URL:https://equmeniakyrkan.se/forshaga/kalender/jossans-cafe-3/2026-04-22/
CATEGORIES:Jossans Café
END:VEVENT
BEGIN:VEVENT
DTSTART;TZID=Europe/Stockholm:20260422T150000
DTEND;TZID=Europe/Stockholm:20260422T160000
DTSTAMP:20260422T145419
CREATED:20250812T202124Z
LAST-MODIFIED:20250812T202124Z
UID:10000698-1776870000-1776873600@equmeniakyrkan.se
SUMMARY:Andakt på Forsgården
DESCRIPTION:Andakt med Fika på Forsgården
URL:https://equmeniakyrkan.se/forshaga/kalender/andakt-pa-forsgarden/2026-04-22/
CATEGORIES:Andakt Forsgården
END:VEVENT
END:VCALENDAR