BEGIN:VCALENDAR
VERSION:2.0
PRODID:-//Equmeniakyrkans församling i Furulund - ECPv6.15.18//NONSGML v1.0//EN
CALSCALE:GREGORIAN
METHOD:PUBLISH
X-WR-CALNAME:Equmeniakyrkans församling i Furulund
X-ORIGINAL-URL:https://equmeniakyrkan.se/furulund
X-WR-CALDESC:Händelser för Equmeniakyrkans församling i Furulund
REFRESH-INTERVAL;VALUE=DURATION:PT1H
X-Robots-Tag:noindex
X-PUBLISHED-TTL:PT1H
BEGIN:VTIMEZONE
TZID:Europe/Stockholm
BEGIN:DAYLIGHT
TZOFFSETFROM:+0100
TZOFFSETTO:+0200
TZNAME:CEST
DTSTART:20250330T010000
END:DAYLIGHT
BEGIN:STANDARD
TZOFFSETFROM:+0200
TZOFFSETTO:+0100
TZNAME:CET
DTSTART:20251026T010000
END:STANDARD
BEGIN:DAYLIGHT
TZOFFSETFROM:+0100
TZOFFSETTO:+0200
TZNAME:CEST
DTSTART:20260329T010000
END:DAYLIGHT
BEGIN:STANDARD
TZOFFSETFROM:+0200
TZOFFSETTO:+0100
TZNAME:CET
DTSTART:20261025T010000
END:STANDARD
BEGIN:DAYLIGHT
TZOFFSETFROM:+0100
TZOFFSETTO:+0200
TZNAME:CEST
DTSTART:20270328T010000
END:DAYLIGHT
BEGIN:STANDARD
TZOFFSETFROM:+0200
TZOFFSETTO:+0100
TZNAME:CET
DTSTART:20271031T010000
END:STANDARD
END:VTIMEZONE
BEGIN:VEVENT
DTSTART;TZID=Europe/Stockholm:20260426T110000
DTEND;TZID=Europe/Stockholm:20260426T120000
DTSTAMP:20260420T221028
CREATED:20260323T060937Z
LAST-MODIFIED:20260323T061043Z
UID:10004240-1777201200-1777204800@equmeniakyrkan.se
SUMMARY:Ekumenisk Gudstjänst
DESCRIPTION:Församlingen firar ekumenisk Gudstjänst tillsammans med Västerkyrkan i Lund\,\n4:e sönd i påsktiden\, Vägen till livet\, psaltarsöndag\, Maria Movitz Rydhé
URL:https://equmeniakyrkan.se/furulund/kalender/ekumenisk-gudstjanst-3/
LOCATION:Västerkyrkan\, Lund\, Byggmästaregatan 21\, Lund\, 222 37\, Sverige
END:VEVENT
BEGIN:VEVENT
DTSTART;TZID=Europe/Stockholm:20260427T140000
DTEND;TZID=Europe/Stockholm:20260427T160000
DTSTAMP:20260420T221028
CREATED:20260112T055855Z
LAST-MODIFIED:20260112T055855Z
UID:10004223-1777298400-1777305600@equmeniakyrkan.se
SUMMARY:Raggsockan
DESCRIPTION:Stickcafé\, Välkommen in på en kopp kaffe och samtal!
URL:https://equmeniakyrkan.se/furulund/kalender/raggsockan-6/2026-04-27/
LOCATION:Kyrkan
END:VEVENT
BEGIN:VEVENT
DTSTART;TZID=Europe/Stockholm:20260503T110000
DTEND;TZID=Europe/Stockholm:20260503T120000
DTSTAMP:20260420T221028
CREATED:20260330T045415Z
LAST-MODIFIED:20260330T045437Z
UID:10004241-1777806000-1777809600@equmeniakyrkan.se
SUMMARY:Gudstjänst
DESCRIPTION:Församlingen firar Gudstjänst\,\n4:e sönd i påsktiden\, Vägen till livet\, Viveca Selander
URL:https://equmeniakyrkan.se/furulund/kalender/gudstjanst-105/
LOCATION:Kyrkan
END:VEVENT
BEGIN:VEVENT
DTSTART;TZID=Europe/Stockholm:20260504T140000
DTEND;TZID=Europe/Stockholm:20260504T160000
DTSTAMP:20260420T221028
CREATED:20260112T055855Z
LAST-MODIFIED:20260112T055855Z
UID:10004224-1777903200-1777910400@equmeniakyrkan.se
SUMMARY:Raggsockan
DESCRIPTION:Stickcafé\, Välkommen in på en kopp kaffe och samtal!
URL:https://equmeniakyrkan.se/furulund/kalender/raggsockan-6/2026-05-04/
LOCATION:Kyrkan
END:VEVENT
BEGIN:VEVENT
DTSTART;TZID=Europe/Stockholm:20260509T130000
DTEND;TZID=Europe/Stockholm:20260509T170000
DTSTAMP:20260420T221029
CREATED:20260330T045710Z
LAST-MODIFIED:20260330T045710Z
UID:10004242-1778331600-1778346000@equmeniakyrkan.se
SUMMARY:Loppmarknad
DESCRIPTION:Equmenia Furulund håller sin loppis!\nFör mer info kolla under Loppis \nRepet släps kl. 13.00!
URL:https://equmeniakyrkan.se/furulund/kalender/loppmarknad-3/
LOCATION:Kyrkan
END:VEVENT
BEGIN:VEVENT
DTSTART;TZID=Europe/Stockholm:20260510T100000
DTEND;TZID=Europe/Stockholm:20260510T120000
DTSTAMP:20260420T221029
CREATED:20260330T045958Z
LAST-MODIFIED:20260330T045958Z
UID:10004244-1778407200-1778414400@equmeniakyrkan.se
SUMMARY:Gudstjänst
DESCRIPTION:Församlingen firar Gudstjänst\,\nMaria Movitz Rydhé
URL:https://equmeniakyrkan.se/furulund/kalender/gudstjanst-106/
LOCATION:Kyrkan
END:VEVENT
BEGIN:VEVENT
DTSTART;TZID=Europe/Stockholm:20260510T130000
DTEND;TZID=Europe/Stockholm:20260510T170000
DTSTAMP:20260420T221029
CREATED:20260330T045738Z
LAST-MODIFIED:20260330T045738Z
UID:10004243-1778418000-1778432400@equmeniakyrkan.se
SUMMARY:Loppmarknad
DESCRIPTION:Equmenia Furulund håller sin loppis!\nFör mer info kolla under Loppis \nRepet släps kl. 13.00!
URL:https://equmeniakyrkan.se/furulund/kalender/loppmarknad-4/
LOCATION:Kyrkan
END:VEVENT
BEGIN:VEVENT
DTSTART;TZID=Europe/Stockholm:20260517T110000
DTEND;TZID=Europe/Stockholm:20260517T120000
DTSTAMP:20260420T221029
CREATED:20260330T050207Z
LAST-MODIFIED:20260330T050207Z
UID:10004245-1779015600-1779019200@equmeniakyrkan.se
SUMMARY:Gudstjänst
DESCRIPTION:Församlingen firar Gudstjänst\,\nSöndagen före Pingst \, Hjälparen kommer\, Ola Ericsson
URL:https://equmeniakyrkan.se/furulund/kalender/gudstjanst-107/
LOCATION:Kyrkan
END:VEVENT
BEGIN:VEVENT
DTSTART;TZID=Europe/Stockholm:20260518T140000
DTEND;TZID=Europe/Stockholm:20260518T160000
DTSTAMP:20260420T221029
CREATED:20260112T055855Z
LAST-MODIFIED:20260112T055855Z
UID:10004225-1779112800-1779120000@equmeniakyrkan.se
SUMMARY:Raggsockan
DESCRIPTION:Stickcafé\, Välkommen in på en kopp kaffe och samtal!
URL:https://equmeniakyrkan.se/furulund/kalender/raggsockan-6/2026-05-18/
LOCATION:Kyrkan
END:VEVENT
BEGIN:VEVENT
DTSTART;TZID=Europe/Stockholm:20260524T110000
DTEND;TZID=Europe/Stockholm:20260524T120000
DTSTAMP:20260420T221029
CREATED:20260330T050421Z
LAST-MODIFIED:20260330T050525Z
UID:10004246-1779620400-1779624000@equmeniakyrkan.se
SUMMARY:Gudstjänst
DESCRIPTION:Församlingen firar Gudstjänst\,\nSöndagen före Pingst\, Den Helige Anden\, Psaltarsöndag\, Maria Movitz Rydhé
URL:https://equmeniakyrkan.se/furulund/kalender/gudstjanst-108/
LOCATION:Kyrkan
END:VEVENT
BEGIN:VEVENT
DTSTART;TZID=Europe/Stockholm:20260525T140000
DTEND;TZID=Europe/Stockholm:20260525T160000
DTSTAMP:20260420T221029
CREATED:20260112T055855Z
LAST-MODIFIED:20260112T055855Z
UID:10004226-1779717600-1779724800@equmeniakyrkan.se
SUMMARY:Raggsockan
DESCRIPTION:Stickcafé\, Välkommen in på en kopp kaffe och samtal!
URL:https://equmeniakyrkan.se/furulund/kalender/raggsockan-6/2026-05-25/
LOCATION:Kyrkan
END:VEVENT
BEGIN:VEVENT
DTSTART;TZID=Europe/Stockholm:20260531T110000
DTEND;TZID=Europe/Stockholm:20260531T120000
DTSTAMP:20260420T221029
CREATED:20260330T050706Z
LAST-MODIFIED:20260330T050706Z
UID:10004247-1780225200-1780228800@equmeniakyrkan.se
SUMMARY:Gudstjänst
DESCRIPTION:Församlingen firar Gudstjänst\,\nHeliga trefaldighets dag\, Gud – Fader\, Son och Ande\, Ola Ericsson
URL:https://equmeniakyrkan.se/furulund/kalender/gudstjanst-109/
LOCATION:Kyrkan
END:VEVENT
BEGIN:VEVENT
DTSTART;TZID=Europe/Stockholm:20260601T140000
DTEND;TZID=Europe/Stockholm:20260601T160000
DTSTAMP:20260420T221029
CREATED:20260112T055855Z
LAST-MODIFIED:20260112T055855Z
UID:10004227-1780322400-1780329600@equmeniakyrkan.se
SUMMARY:Raggsockan
DESCRIPTION:Stickcafé\, Välkommen in på en kopp kaffe och samtal!
URL:https://equmeniakyrkan.se/furulund/kalender/raggsockan-6/2026-06-01/
LOCATION:Kyrkan
END:VEVENT
END:VCALENDAR