BEGIN:VCALENDAR
VERSION:2.0
PRODID:-//Equmeniakyrkan Gotland - ECPv6.15.18//NONSGML v1.0//EN
CALSCALE:GREGORIAN
METHOD:PUBLISH
X-WR-CALNAME:Equmeniakyrkan Gotland
X-ORIGINAL-URL:https://equmeniakyrkan.se/gotland
X-WR-CALDESC:Händelser för Equmeniakyrkan Gotland
REFRESH-INTERVAL;VALUE=DURATION:PT1H
X-Robots-Tag:noindex
X-PUBLISHED-TTL:PT1H
BEGIN:VTIMEZONE
TZID:Europe/Stockholm
BEGIN:DAYLIGHT
TZOFFSETFROM:+0100
TZOFFSETTO:+0200
TZNAME:CEST
DTSTART:20250330T010000
END:DAYLIGHT
BEGIN:STANDARD
TZOFFSETFROM:+0200
TZOFFSETTO:+0100
TZNAME:CET
DTSTART:20251026T010000
END:STANDARD
BEGIN:DAYLIGHT
TZOFFSETFROM:+0100
TZOFFSETTO:+0200
TZNAME:CEST
DTSTART:20260329T010000
END:DAYLIGHT
BEGIN:STANDARD
TZOFFSETFROM:+0200
TZOFFSETTO:+0100
TZNAME:CET
DTSTART:20261025T010000
END:STANDARD
BEGIN:DAYLIGHT
TZOFFSETFROM:+0100
TZOFFSETTO:+0200
TZNAME:CEST
DTSTART:20270328T010000
END:DAYLIGHT
BEGIN:STANDARD
TZOFFSETFROM:+0200
TZOFFSETTO:+0100
TZNAME:CET
DTSTART:20271031T010000
END:STANDARD
END:VTIMEZONE
BEGIN:VEVENT
DTSTART;VALUE=DATE:20260502
DTEND;VALUE=DATE:20260504
DTSTAMP:20260421T061254
CREATED:20260315T160005Z
LAST-MODIFIED:20260318T193625Z
UID:10000102-1777680000-1777852799@equmeniakyrkan.se
SUMMARY:Scout‑hajk 2–3 maj
DESCRIPTION:Scout‑Hajk – två dagar av äventyr\, gemenskap och friluftsliv\nVår Scout‑hajk ger scouterna två intensiva dagar fyllda av friluftsliv\, äventyr och gemenskap.\nVi vandrar tillsammans\, bygger läger\, lagar mat utomhus och löser utmaningar längs vägen.\nDessutom får scouterna möjlighet att växa i både samarbete och självständighet\, något som gör hajken till en uppskattad tradition år efter år. \nGemenskap hela vägen\nEn av de största höjdpunkterna under hajken är tiden runt elden.\nDär delar vi berättelser\, pratar om dagen som varit och umgås på ett sätt som bara friluftslivet kan erbjuda.\nDessutom skapar kvällen en trygg stämning där både äldre och yngre scouter hittar plats att bidra och bli sedda. \nFörberedelser och packning\nInför Scout‑hajk behöver varje scout packa smart och lätt.\nPacklista\, tider och samlingsplatser skickas ut i god tid innan hajken börjar.\nVi uppmuntrar scouterna att bära så mycket de själva klarar\, men ledarna finns nära till hands genom hela helgen. \nHajken passar alla scouter\, oavsett erfarenhet.\nDet viktigaste är nyfikenhet och viljan att vara ute tillsammans.\nFler evenemang och uppdateringar hittar du i vår kalender:\nequmeniakyrkan kalender Equmenia
URL:https://equmeniakyrkan.se/gotland/kalender/scout-hajk/
CATEGORIES:equmenia,Scout
ATTACH;FMTTYPE=image/jpeg:https://equmeniakyrkan.se/gotland/wp-content/uploads/sites/87/2017/01/2000equmenia.jpg
END:VEVENT
BEGIN:VEVENT
DTSTART;VALUE=DATE:20260503
DTEND;VALUE=DATE:20260504
DTSTAMP:20260421T061254
CREATED:20260315T161638Z
LAST-MODIFIED:20260318T192607Z
UID:10000105-1777766400-1777852799@equmeniakyrkan.se
SUMMARY:S:t Görans tävling
DESCRIPTION:S:t Görans tävling – en dag för utmaningar\, gemenskap och scoutglädje\nS:t Görans tävling är en av årets mest uppskattade traditioner för våra scouter.\nUnder denna dag möts patruller\, ledare och familjer för att delta i utmaningar\, lösa klurigheter och samarbeta på roliga och kreativa sätt.\nDessutom skapar tävlingen en härlig stämning där både barn\, unga och vuxna får möjlighet att vara med och bidra. \nVad händer under S:t Görans tävling?\nUnder S:t Görans tävling genomför deltagarna flera olika stationer.\nVarje station kräver både samarbete\, mod\, kreativitet och förmåga att tänka utanför boxen.\nVi använder praktiska moment\, logiska uppgifter och scoutfärdigheter som gör tävlingen både rolig och lärorik.\nEftersom fokus ligger på gemenskap och glädje\, handlar uppgifterna inte om att vara bäst\, utan om att göra sitt bästa tillsammans. \nTävlingen passar alla scouter oavsett erfarenhet.\nVi ser också att dagen ofta skapar nya vänskaper och stärker banden inom patrullen.\nVid sidan av tävlingsmomenten finns tid för fika\, samtal och skratt – sådant som gör S:t Görans‑dagen till något alldeles extra. \nVi uppmuntrar vuxna lag att delta!\nI år vill vi särskilt uppmuntra att fler vuxenlag deltar i S:t Görans tävling.\nNär vuxna bildar lag visar vi scouterna att vi också vågar anta utmaningar och ha roligt tillsammans.\nDessutom skapar det en fantastisk gemenskap mellan föräldrar\, ledare och scouter.\nDu behöver inga förkunskaper – det viktiga är viljan att vara med\, samarbeta och bidra till den positiva stämningen. \nPraktisk information\nS:t Görans‑tävlingen äger rum i samband med hajkhelgens avslutande dag.\nTa gärna med oömma kläder\, vattenflaska och gott humör.\nArrangemanget är öppet för alla scouter och familjer oavsett tidigare erfarenhet.\nJu fler som deltar\, desto roligare blir dagen för hela gruppen. \nFör fler evenemang och uppdateringar\, se vår kalender:\nequmeniakyrkan kalender Equmenia
URL:https://equmeniakyrkan.se/gotland/kalender/st-gorans-tavling/
CATEGORIES:equmenia,Scout
ATTACH;FMTTYPE=image/jpeg:https://equmeniakyrkan.se/gotland/wp-content/uploads/sites/87/2020/06/barn-som-har-dragkamp-anna-samoylova.jpg
END:VEVENT
BEGIN:VEVENT
DTSTART;TZID=Europe/Stockholm:20260523T180000
DTEND;TZID=Europe/Stockholm:20260523T220000
DTSTAMP:20260421T061254
CREATED:20260206T090403Z
LAST-MODIFIED:20260416T105755Z
UID:10000092-1779559200-1779573600@equmeniakyrkan.se
SUMMARY:Vårkonsert på Snäckan
DESCRIPTION:Konsert med Equmeniakyrkan Västra Gotlands kör\nVälkommen till en stämningsfull kväll på Snäckan med Equmeniakyrkan Västra Gotlands kör.\nKören bjuder in till en konsert fylld av vårlig och somrig musik som passar alla åldrar.\nDet blir en kväll där musik\, gemenskap och närvaro står i centrum. \nKören består av sångare från olika delar av Västra Gotland och samlas regelbundet kring glädjen i att sjunga tillsammans.\nUnder konserten får vi höra körsång i varierande uttryck – både välkända melodier och nyare sånger som speglar årstiden och skaparglädjen.\nSamtidigt skapar musiken en varm stämning som inbjuder till eftertanke och gemenskap. \nKörkonsert under Lena Gomérs ledning\nLena Gomér leder konserten med trygg hand och musikalisk lyhördhet.\nTillsammans med musiker och solister formar kören ett program som rör sig mellan lättsam glädje och djupare tonlägen.\nDärför passar kvällen lika bra för dig som ofta går på konserter som för dig som helt enkelt vill njuta av musik i en avslappnad miljö. \nGemenskap och servering på Snäckan\nKonserten äger rum på Snäckan\, en plats som inbjuder till både samling och samtal.\nUnder kvällen finns servering\, vilket ger möjlighet att stanna kvar en stund efter konserten\, ta något att äta eller dricka och möta andra besökare.\nPå så sätt blir kvällen inte bara en musikupplevelse utan även ett tillfälle till gemenskap över generationsgränser. \nEn konsert för hela familjen\nDenna körkonsert på Snäckan är öppen för alla och passar hela familjen.\nTa gärna med vänner\, grannar eller någon som uppskattar musik och gemenskap.\nOavsett om du kommer främst för musiken eller för mötet med människor hoppas vi att kvällen ska ge både glädje och inspiration. \nArrangör: Equmeniakyrkan Västra Gotland\nFler evenemang hittar du i Snäckans kalender.
URL:https://equmeniakyrkan.se/gotland/kalender/equmeniakyrkan-vastra-gotlands-kor-konsert-pa-snackan-23-maj-kl-18-00/
LOCATION:Snäckan\, Sanda Hemmungs 940\, Klintehamn\, 62379\, Sweden
CATEGORIES:Equmeniakyrkan Västra Gotland,Musik,Snäckan
ATTACH;FMTTYPE=image/png:https://equmeniakyrkan.se/gotland/wp-content/uploads/sites/87/2022/08/choral-4272642-1280.png
GEO:57.395887;18.186226
X-APPLE-STRUCTURED-LOCATION;VALUE=URI;X-ADDRESS=Snäckan Sanda Hemmungs 940 Klintehamn 62379 Sweden;X-APPLE-RADIUS=500;X-TITLE=Sanda Hemmungs 940:geo:18.186226,57.395887
END:VEVENT
BEGIN:VEVENT
DTSTART;TZID=Europe/Stockholm:20260607T000000
DTEND;TZID=Europe/Stockholm:20260607T000000
DTSTAMP:20260421T061254
CREATED:20260206T090514Z
LAST-MODIFIED:20260318T154821Z
UID:10000093-1780790400-1780790400@equmeniakyrkan.se
SUMMARY:Equmeniakyrkan Gotlands manskör konsert
DESCRIPTION:
URL:https://equmeniakyrkan.se/gotland/kalender/equmeniakyrkan-gotlands-manskor-konsert-7-juni/
CATEGORIES:Equmeniakyrkan Gotland,Musik
ATTACH;FMTTYPE=image/png:https://equmeniakyrkan.se/gotland/wp-content/uploads/sites/87/2022/08/choral-4272642-1280.png
END:VEVENT
BEGIN:VEVENT
DTSTART;VALUE=DATE:20260703
DTEND;VALUE=DATE:20260706
DTSTAMP:20260421T061254
CREATED:20260315T160430Z
LAST-MODIFIED:20260318T191357Z
UID:10000103-1783036800-1783295999@equmeniakyrkan.se
SUMMARY:Scoutläger på Gotland
DESCRIPTION:Scoutläger på Gotland – sommarens stora äventyr\nScoutläger på Gotland är en av sommarens absoluta höjdpunkter för våra scouter.\nUnder flera dagar samlas vi på en av öns vackra platser för att uppleva friluftsliv\, gemenskap och äventyr på riktigt.\nMånga scouter längtar efter lägret hela året\, och det är lätt att förstå varför. \nVad händer under Scoutläger på Gotland?\nPå vårt Scoutläger på Gotland får deltagarna prova en mängd olika aktiviteter som stärker både mod\, samarbete och kreativitet.\nVi bygger läger tillsammans\, lagar mat över eld\, deltar i samlingar och provar praktiska scoututmaningar.\nDessutom erbjuder vi lekar\, tävlingar och kvällsprogram som skapar en härlig och levande lägerkänsla. \nProgrammet innehåller både nya och välkända inslag.\nFör många scouter är kvällens lägerbål en av de största höjdpunkterna.\nDär delar vi berättelser\, sjunger och skrattar tillsammans.\nVid sidan av det praktiska arbetet finns det också tid för gemenskap\, vila och spontana upptåg som gör lägret oförglömligt. \nVarför lägga Scoutläger på Gotland?\nGotlands natur ger fantastiska förutsättningar för friluftsliv.\nKusten\, skogen och de öppna landskapen ger oss möjlighet att skapa ett läger som både utmanar och inspirerar.\nOavsett om deltagarna tältar för första gången eller redan har erfarenhet från tidigare läger\, finns det alltid något att växa i. \nUnder hela lägret finns ledarna nära till hands.\nDet skapar trygghet och gör att både barn och unga vågar prova nya saker och ta mer ansvar i gruppen.\nLägret blir därför inte bara ett äventyr utan också en viktig del av scouternas utveckling. \nAlla scouter är välkomna\nScoutläger på Gotland är öppet för alla scouter i våra grupper.\nDet enda som behövs är nyfikenhet\, vilja att vara ute och intresse för att samarbeta.\nJu fler som följer med\, desto starkare blir gemenskapen och desto rikare blir lägerupplevelsen. \nMer information om packlista\, tider och plats kommer när lägret närmar sig.\nUnder tiden kan du se fler evenemang i vår kalender:\nhttps://equmeniakyrkan.se/gotland/kalenderequmeniakyrkan.se/gotland/kalender.
URL:https://equmeniakyrkan.se/gotland/kalender/scoutlager-pa-gotland/
CATEGORIES:equmenia,Scout
ATTACH;FMTTYPE=image/jpeg:https://equmeniakyrkan.se/gotland/wp-content/uploads/sites/87/2020/06/tjej-som-dansar-scout-lager-foto-krists-luhaers-scaled.jpg
END:VEVENT
BEGIN:VEVENT
DTSTART;VALUE=DATE:20260716
DTEND;VALUE=DATE:20260720
DTSTAMP:20260421T061254
CREATED:20260315T175937Z
LAST-MODIFIED:20260401T073707Z
UID:10000106-1784160000-1784505599@equmeniakyrkan.se
SUMMARY:Gotlandskonferenser
DESCRIPTION:Gotlandskonferensen 2026 – En helg av tro\, gemenskap och inspiration\nGotlandskonferensen 2026 äger rum den 16–19 juli.\nUnder fyra dagar möts människor från hela ön för att dela tro\, gemenskap och undervisning.\nTemat “Frid & Fred” ligger som en röd tråd genom hela helgen och ger tid för både reflektion och glädje.\nDessutom erbjuder Snäckan en unik miljö där naturen\, havet och mötesplatserna skapar en varm och välkomnande atmosfär som förstärker konferensens innehåll. \nTalare på Gotlandskonferensen 2026\nÅrets talare bidrar med olika gåvor och perspektiv\, vilket gör att undervisningen blir både bred och fördjupande.\nDärför får varje deltagare möjligheten att hitta något som talar rakt in i livet. Talare 2026: \n\nTomas Sjödin – pastor och författare som ofta lyfter frågor om vila\, livsmod och vardagens stora små saker.\nIda-Maria Brengesjö – pastor och inspiratör som talar om mod\, hopp och tro i rörelse.\nStefan Gustavsson – teolog och apologet som ger skarpa perspektiv på tro och samhälle.\n\nNär talarna kompletterar varandra på detta sätt skapas samtal som fortsätter långt efter att samlingen är slut. \nMusik och konserter\nMusiken under Gotlandskonferensen 2026 leds av\nMartina Möllås och årets husband.\nLyssna på Martina. ﻿ \n\nLIN D \nSankta Maria Gospelkör med Alma Emilsson\n\nKonserterna ger helgen både energi och djup och blir därför viktiga delar av konferensens helhetsupplevelse. \nBarn och ungdom\nBarn och unga får ett eget program lett av Jonathan Lindén\, Emma Axelsson\, Stina Lindén och Agnes Thomasson.\nProgrammet innehåller lek\, kreativitet\, samtal och andakter som gör att även de yngre deltagarna får en positiv och meningsfull konferensupplevelse. \nGudstjänster och praktisk information\nVarje dag erbjuder gudstjänster med lovsång\, predikan och förbön.\nSöndagens avslutning samlar ofta många och skapar en vacker final på Gotlandskonferensen 2026.\nUnder helgen finns servering\, fika och enklare måltider på området. Parkering finns nära Snäckan och skyltning visar vägen.\nSe fler evenemang: https://equmeniakyrkan.se/gotland/kalender \nLäs mer om Equmeniakyrkan Gotland \nGotlandskonferensen 2026\n 
URL:https://equmeniakyrkan.se/gotland/kalender/gotlandskonferensen-6/
LOCATION:Snäckan\, Sanda Hemmungs 940\, Klintehamn\, 62379\, Sweden
CATEGORIES:Gotlandskonferensen,Gudstjänst,Musik,Snäckan
ATTACH;FMTTYPE=image/jpeg:https://equmeniakyrkan.se/gotland/wp-content/uploads/sites/87/2017/06/gotlkonf200200.jpg
GEO:57.395887;18.186226
X-APPLE-STRUCTURED-LOCATION;VALUE=URI;X-ADDRESS=Snäckan Sanda Hemmungs 940 Klintehamn 62379 Sweden;X-APPLE-RADIUS=500;X-TITLE=Sanda Hemmungs 940:geo:18.186226,57.395887
END:VEVENT
BEGIN:VEVENT
DTSTART;VALUE=DATE:20260725
DTEND;VALUE=DATE:20260802
DTSTAMP:20260421T061254
CREATED:20260315T160940Z
LAST-MODIFIED:20260318T183340Z
UID:10000104-1784937600-1785628799@equmeniakyrkan.se
SUMMARY:Jamboree 2026
DESCRIPTION:Den största scoutupplevelsen i år! Under en hel vecka samlas scouter från hela landet på Jamboree 2026 och skapar ett enormt äventyr tillsammans. \n\nDessutom fyller lägret varje dag med aktiviteter\, utmaningar\, workshops och gudstjänster som ger minnen för livet. \nJamboree 2026 bjuder på äventyr\, gemenskap och scoutliv när det är som allra bäst. \n\n\n\nJamboree
URL:https://equmeniakyrkan.se/gotland/kalender/jamboree-2026/
CATEGORIES:equmenia,Scout
ATTACH;FMTTYPE=image/jpeg:https://equmeniakyrkan.se/gotland/wp-content/uploads/sites/87/2020/06/tjej-som-dansar-scout-lager-foto-krists-luhaers-scaled.jpg
END:VEVENT
END:VCALENDAR