BEGIN:VCALENDAR
VERSION:2.0
PRODID:-//Götlunda missionsförsamling - ECPv6.15.18//NONSGML v1.0//EN
CALSCALE:GREGORIAN
METHOD:PUBLISH
X-WR-CALNAME:Götlunda missionsförsamling
X-ORIGINAL-URL:https://equmeniakyrkan.se/gotlunda
X-WR-CALDESC:Händelser för Götlunda missionsförsamling
REFRESH-INTERVAL;VALUE=DURATION:PT1H
X-Robots-Tag:noindex
X-PUBLISHED-TTL:PT1H
BEGIN:VTIMEZONE
TZID:Europe/Stockholm
BEGIN:DAYLIGHT
TZOFFSETFROM:+0100
TZOFFSETTO:+0200
TZNAME:CEST
DTSTART:20250330T010000
END:DAYLIGHT
BEGIN:STANDARD
TZOFFSETFROM:+0200
TZOFFSETTO:+0100
TZNAME:CET
DTSTART:20251026T010000
END:STANDARD
BEGIN:DAYLIGHT
TZOFFSETFROM:+0100
TZOFFSETTO:+0200
TZNAME:CEST
DTSTART:20260329T010000
END:DAYLIGHT
BEGIN:STANDARD
TZOFFSETFROM:+0200
TZOFFSETTO:+0100
TZNAME:CET
DTSTART:20261025T010000
END:STANDARD
BEGIN:DAYLIGHT
TZOFFSETFROM:+0100
TZOFFSETTO:+0200
TZNAME:CEST
DTSTART:20270328T010000
END:DAYLIGHT
BEGIN:STANDARD
TZOFFSETFROM:+0200
TZOFFSETTO:+0100
TZNAME:CET
DTSTART:20271031T010000
END:STANDARD
END:VTIMEZONE
BEGIN:VEVENT
DTSTART;TZID=Europe/Stockholm:20260422T190000
DTEND;TZID=Europe/Stockholm:20260422T203000
DTSTAMP:20260423T191031
CREATED:20260215T183832Z
LAST-MODIFIED:20260215T183832Z
UID:10000349-1776884400-1776889800@equmeniakyrkan.se
SUMMARY:Körövning inför Valborg
DESCRIPTION:i Equmeniakyrkan
URL:https://equmeniakyrkan.se/gotlunda/kalender/korovning-infor-valborg/2026-04-22/
LOCATION:Equmeniakyrkan Götlunda\, Södra Lunger 504\, Arboga\, Sverige\, 73298\, Sverige
CATEGORIES:Kör
GEO:59.326652;15.676502
X-APPLE-STRUCTURED-LOCATION;VALUE=URI;X-ADDRESS=Equmeniakyrkan Götlunda Södra Lunger 504 Arboga Sverige 73298 Sverige;X-APPLE-RADIUS=500;X-TITLE=Södra Lunger 504:geo:15.676502,59.326652
END:VEVENT
END:VCALENDAR