BEGIN:VCALENDAR
VERSION:2.0
PRODID:-//Götlunda missionsförsamling - ECPv6.15.18//NONSGML v1.0//EN
CALSCALE:GREGORIAN
METHOD:PUBLISH
X-WR-CALNAME:Götlunda missionsförsamling
X-ORIGINAL-URL:https://equmeniakyrkan.se/gotlunda
X-WR-CALDESC:Händelser för Götlunda missionsförsamling
REFRESH-INTERVAL;VALUE=DURATION:PT1H
X-Robots-Tag:noindex
X-PUBLISHED-TTL:PT1H
BEGIN:VTIMEZONE
TZID:Europe/Stockholm
BEGIN:DAYLIGHT
TZOFFSETFROM:+0100
TZOFFSETTO:+0200
TZNAME:CEST
DTSTART:20250330T010000
END:DAYLIGHT
BEGIN:STANDARD
TZOFFSETFROM:+0200
TZOFFSETTO:+0100
TZNAME:CET
DTSTART:20251026T010000
END:STANDARD
BEGIN:DAYLIGHT
TZOFFSETFROM:+0100
TZOFFSETTO:+0200
TZNAME:CEST
DTSTART:20260329T010000
END:DAYLIGHT
BEGIN:STANDARD
TZOFFSETFROM:+0200
TZOFFSETTO:+0100
TZNAME:CET
DTSTART:20261025T010000
END:STANDARD
BEGIN:DAYLIGHT
TZOFFSETFROM:+0100
TZOFFSETTO:+0200
TZNAME:CEST
DTSTART:20270328T010000
END:DAYLIGHT
BEGIN:STANDARD
TZOFFSETFROM:+0200
TZOFFSETTO:+0100
TZNAME:CET
DTSTART:20271031T010000
END:STANDARD
END:VTIMEZONE
BEGIN:VEVENT
DTSTART;TZID=Europe/Stockholm:20260426T110000
DTEND;TZID=Europe/Stockholm:20260426T130000
DTSTAMP:20260423T004024
CREATED:20260215T183940Z
LAST-MODIFIED:20260215T183940Z
UID:10000351-1777201200-1777208400@equmeniakyrkan.se
SUMMARY:Gudstjänst
DESCRIPTION:Nattvard \nSimon Richardson
URL:https://equmeniakyrkan.se/gotlunda/kalender/gudstjanst-13/
LOCATION:Equmeniakyrkan Götlunda\, Södra Lunger 504\, Arboga\, Sverige\, 73298\, Sverige
CATEGORIES:Gudstjänst
GEO:59.326652;15.676502
X-APPLE-STRUCTURED-LOCATION;VALUE=URI;X-ADDRESS=Equmeniakyrkan Götlunda Södra Lunger 504 Arboga Sverige 73298 Sverige;X-APPLE-RADIUS=500;X-TITLE=Södra Lunger 504:geo:15.676502,59.326652
END:VEVENT
BEGIN:VEVENT
DTSTART;TZID=Europe/Stockholm:20260429T190000
DTEND;TZID=Europe/Stockholm:20260429T203000
DTSTAMP:20260423T004024
CREATED:20260215T183832Z
LAST-MODIFIED:20260215T183832Z
UID:10000350-1777489200-1777494600@equmeniakyrkan.se
SUMMARY:Körövning inför Valborg
DESCRIPTION:i Equmeniakyrkan
URL:https://equmeniakyrkan.se/gotlunda/kalender/korovning-infor-valborg/2026-04-29/
LOCATION:Equmeniakyrkan Götlunda\, Södra Lunger 504\, Arboga\, Sverige\, 73298\, Sverige
CATEGORIES:Kör
GEO:59.326652;15.676502
X-APPLE-STRUCTURED-LOCATION;VALUE=URI;X-ADDRESS=Equmeniakyrkan Götlunda Södra Lunger 504 Arboga Sverige 73298 Sverige;X-APPLE-RADIUS=500;X-TITLE=Södra Lunger 504:geo:15.676502,59.326652
END:VEVENT
BEGIN:VEVENT
DTSTART;TZID=Europe/Stockholm:20260430T200000
DTEND;TZID=Europe/Stockholm:20260430T213000
DTSTAMP:20260423T004024
CREATED:20260215T184123Z
LAST-MODIFIED:20260215T184123Z
UID:10000352-1777579200-1777584600@equmeniakyrkan.se
SUMMARY:Valborgsmässofirande
DESCRIPTION:Vårkör \nVårtal av Jonatan Lindner
URL:https://equmeniakyrkan.se/gotlunda/kalender/valborgsmassofirande/
LOCATION:Equmeniakyrkan Götlunda\, Södra Lunger 504\, Arboga\, Sverige\, 73298\, Sverige
CATEGORIES:Övriga aktiviteter
GEO:59.326652;15.676502
X-APPLE-STRUCTURED-LOCATION;VALUE=URI;X-ADDRESS=Equmeniakyrkan Götlunda Södra Lunger 504 Arboga Sverige 73298 Sverige;X-APPLE-RADIUS=500;X-TITLE=Södra Lunger 504:geo:15.676502,59.326652
END:VEVENT
BEGIN:VEVENT
DTSTART;TZID=Europe/Stockholm:20260509T100000
DTEND;TZID=Europe/Stockholm:20260509T120000
DTSTAMP:20260423T004024
CREATED:20260215T184226Z
LAST-MODIFIED:20260215T184226Z
UID:10000353-1778320800-1778328000@equmeniakyrkan.se
SUMMARY:Pilgrimsvandring
DESCRIPTION:
URL:https://equmeniakyrkan.se/gotlunda/kalender/pilgrimsvandring/
LOCATION:Equmeniakyrkan Götlunda\, Södra Lunger 504\, Arboga\, Sverige\, 73298\, Sverige
CATEGORIES:Pilgrimsvandring
GEO:59.326652;15.676502
X-APPLE-STRUCTURED-LOCATION;VALUE=URI;X-ADDRESS=Equmeniakyrkan Götlunda Södra Lunger 504 Arboga Sverige 73298 Sverige;X-APPLE-RADIUS=500;X-TITLE=Södra Lunger 504:geo:15.676502,59.326652
END:VEVENT
BEGIN:VEVENT
DTSTART;TZID=Europe/Stockholm:20260514T100000
DTEND;TZID=Europe/Stockholm:20260514T120000
DTSTAMP:20260423T004024
CREATED:20260215T184347Z
LAST-MODIFIED:20260215T184347Z
UID:10000354-1778752800-1778760000@equmeniakyrkan.se
SUMMARY:Kristihimmelsfärds dag
DESCRIPTION:Equmenisk gudstjänst i Götlunda kyrka
URL:https://equmeniakyrkan.se/gotlunda/kalender/kristihimmelsfards-dag/
LOCATION:Equmeniakyrkan Götlunda\, Södra Lunger 504\, Arboga\, Sverige\, 73298\, Sverige
CATEGORIES:Gudstjänst
GEO:59.326652;15.676502
X-APPLE-STRUCTURED-LOCATION;VALUE=URI;X-ADDRESS=Equmeniakyrkan Götlunda Södra Lunger 504 Arboga Sverige 73298 Sverige;X-APPLE-RADIUS=500;X-TITLE=Södra Lunger 504:geo:15.676502,59.326652
END:VEVENT
BEGIN:VEVENT
DTSTART;TZID=Europe/Stockholm:20260524T110000
DTEND;TZID=Europe/Stockholm:20260524T130000
DTSTAMP:20260423T004024
CREATED:20260215T184452Z
LAST-MODIFIED:20260215T184452Z
UID:10000355-1779620400-1779627600@equmeniakyrkan.se
SUMMARY:Pingstdagsgudstjänst
DESCRIPTION:
URL:https://equmeniakyrkan.se/gotlunda/kalender/pingstdagsgudstjanst/
LOCATION:Equmeniakyrkan Götlunda\, Södra Lunger 504\, Arboga\, Sverige\, 73298\, Sverige
CATEGORIES:Gudstjänst
GEO:59.326652;15.676502
X-APPLE-STRUCTURED-LOCATION;VALUE=URI;X-ADDRESS=Equmeniakyrkan Götlunda Södra Lunger 504 Arboga Sverige 73298 Sverige;X-APPLE-RADIUS=500;X-TITLE=Södra Lunger 504:geo:15.676502,59.326652
END:VEVENT
BEGIN:VEVENT
DTSTART;TZID=Europe/Stockholm:20260607T110000
DTEND;TZID=Europe/Stockholm:20260607T130000
DTSTAMP:20260423T004024
CREATED:20260215T184556Z
LAST-MODIFIED:20260215T184556Z
UID:10000356-1780830000-1780837200@equmeniakyrkan.se
SUMMARY:Gudstjänst
DESCRIPTION:Torgny Lindner
URL:https://equmeniakyrkan.se/gotlunda/kalender/gudstjanst-14/
LOCATION:Equmeniakyrkan Götlunda\, Södra Lunger 504\, Arboga\, Sverige\, 73298\, Sverige
CATEGORIES:Gudstjänst
GEO:59.326652;15.676502
X-APPLE-STRUCTURED-LOCATION;VALUE=URI;X-ADDRESS=Equmeniakyrkan Götlunda Södra Lunger 504 Arboga Sverige 73298 Sverige;X-APPLE-RADIUS=500;X-TITLE=Södra Lunger 504:geo:15.676502,59.326652
END:VEVENT
END:VCALENDAR