BEGIN:VCALENDAR
VERSION:2.0
PRODID:-//Equmeniakyrkan Gullspång - ECPv6.15.18//NONSGML v1.0//EN
CALSCALE:GREGORIAN
METHOD:PUBLISH
X-WR-CALNAME:Equmeniakyrkan Gullspång
X-ORIGINAL-URL:https://equmeniakyrkan.se/gullspang
X-WR-CALDESC:Händelser för Equmeniakyrkan Gullspång
REFRESH-INTERVAL;VALUE=DURATION:PT1H
X-Robots-Tag:noindex
X-PUBLISHED-TTL:PT1H
BEGIN:VTIMEZONE
TZID:Europe/Stockholm
BEGIN:DAYLIGHT
TZOFFSETFROM:+0100
TZOFFSETTO:+0200
TZNAME:CEST
DTSTART:20250330T010000
END:DAYLIGHT
BEGIN:STANDARD
TZOFFSETFROM:+0200
TZOFFSETTO:+0100
TZNAME:CET
DTSTART:20251026T010000
END:STANDARD
BEGIN:DAYLIGHT
TZOFFSETFROM:+0100
TZOFFSETTO:+0200
TZNAME:CEST
DTSTART:20260329T010000
END:DAYLIGHT
BEGIN:STANDARD
TZOFFSETFROM:+0200
TZOFFSETTO:+0100
TZNAME:CET
DTSTART:20261025T010000
END:STANDARD
BEGIN:DAYLIGHT
TZOFFSETFROM:+0100
TZOFFSETTO:+0200
TZNAME:CEST
DTSTART:20270328T010000
END:DAYLIGHT
BEGIN:STANDARD
TZOFFSETFROM:+0200
TZOFFSETTO:+0100
TZNAME:CET
DTSTART:20271031T010000
END:STANDARD
END:VTIMEZONE
BEGIN:VEVENT
DTSTART;TZID=Europe/Stockholm:20260420T170000
DTEND;TZID=Europe/Stockholm:20260420T170000
DTSTAMP:20260420T092906
CREATED:20260315T163058Z
LAST-MODIFIED:20260315T163058Z
UID:10000578-1776704400-1776704400@equmeniakyrkan.se
SUMMARY:Skapa och Laga
DESCRIPTION:
URL:https://equmeniakyrkan.se/gullspang/kalender/skapa-och-laga-18/
END:VEVENT
BEGIN:VEVENT
DTSTART;TZID=Europe/Stockholm:20260423T190000
DTEND;TZID=Europe/Stockholm:20260423T190000
DTSTAMP:20260420T092906
CREATED:20260315T162731Z
LAST-MODIFIED:20260315T162731Z
UID:10000574-1776970800-1776970800@equmeniakyrkan.se
SUMMARY:Bön
DESCRIPTION:
URL:https://equmeniakyrkan.se/gullspang/kalender/bon-19/
END:VEVENT
BEGIN:VEVENT
DTSTART;TZID=Europe/Stockholm:20260427T170000
DTEND;TZID=Europe/Stockholm:20260427T170000
DTSTAMP:20260420T092906
CREATED:20260315T163142Z
LAST-MODIFIED:20260315T163142Z
UID:10000579-1777309200-1777309200@equmeniakyrkan.se
SUMMARY:Skapa och Laga
DESCRIPTION:
URL:https://equmeniakyrkan.se/gullspang/kalender/skapa-och-laga-19/
END:VEVENT
BEGIN:VEVENT
DTSTART;TZID=Europe/Stockholm:20260503T180000
DTEND;TZID=Europe/Stockholm:20260503T180000
DTSTAMP:20260420T092906
CREATED:20260315T163617Z
LAST-MODIFIED:20260315T163617Z
UID:10000584-1777831200-1777831200@equmeniakyrkan.se
SUMMARY:Ekumenisk Gudstjänst\, Ekumeniska kören
DESCRIPTION:
URL:https://equmeniakyrkan.se/gullspang/kalender/ekumenisk-gudstjanst-ekumeniska-koren/
END:VEVENT
BEGIN:VEVENT
DTSTART;TZID=Europe/Stockholm:20260504T170000
DTEND;TZID=Europe/Stockholm:20260504T170000
DTSTAMP:20260420T092906
CREATED:20260315T163311Z
LAST-MODIFIED:20260315T163311Z
UID:10000580-1777914000-1777914000@equmeniakyrkan.se
SUMMARY:Skapa och Laga
DESCRIPTION:
URL:https://equmeniakyrkan.se/gullspang/kalender/skapa-och-laga-20/
END:VEVENT
BEGIN:VEVENT
DTSTART;TZID=Europe/Stockholm:20260505T120000
DTEND;TZID=Europe/Stockholm:20260505T120000
DTSTAMP:20260420T092906
CREATED:20260315T163654Z
LAST-MODIFIED:20260315T163654Z
UID:10000585-1777982400-1777982400@equmeniakyrkan.se
SUMMARY:Sopplunch
DESCRIPTION:
URL:https://equmeniakyrkan.se/gullspang/kalender/sopplunch-6/
END:VEVENT
BEGIN:VEVENT
DTSTART;TZID=Europe/Stockholm:20260507T190000
DTEND;TZID=Europe/Stockholm:20260507T190000
DTSTAMP:20260420T092906
CREATED:20260315T163732Z
LAST-MODIFIED:20260315T163732Z
UID:10000586-1778180400-1778180400@equmeniakyrkan.se
SUMMARY:Bön
DESCRIPTION:
URL:https://equmeniakyrkan.se/gullspang/kalender/bon-20/
END:VEVENT
BEGIN:VEVENT
DTSTART;TZID=Europe/Stockholm:20260509T090000
DTEND;TZID=Europe/Stockholm:20260509T150000
DTSTAMP:20260420T092907
CREATED:20260315T163836Z
LAST-MODIFIED:20260315T163836Z
UID:10000587-1778317200-1778338800@equmeniakyrkan.se
SUMMARY:Familjedag i Gullspång\, Kyrkkaffe på torget
DESCRIPTION:
URL:https://equmeniakyrkan.se/gullspang/kalender/familjedag-i-gullspang-kyrkkaffe-pa-torget/
END:VEVENT
BEGIN:VEVENT
DTSTART;TZID=Europe/Stockholm:20260510T180000
DTEND;TZID=Europe/Stockholm:20260510T180000
DTSTAMP:20260420T092907
CREATED:20260315T163927Z
LAST-MODIFIED:20260327T161330Z
UID:10000588-1778436000-1778436000@equmeniakyrkan.se
SUMMARY:Cafékväll\, Karin och Anders Jaktlund m.fl
DESCRIPTION:
URL:https://equmeniakyrkan.se/gullspang/kalender/cafekvall-3/
END:VEVENT
BEGIN:VEVENT
DTSTART;TZID=Europe/Stockholm:20260511T170000
DTEND;TZID=Europe/Stockholm:20260511T170000
DTSTAMP:20260420T092907
CREATED:20260315T163340Z
LAST-MODIFIED:20260315T163340Z
UID:10000581-1778518800-1778518800@equmeniakyrkan.se
SUMMARY:Skapa och Laga
DESCRIPTION:
URL:https://equmeniakyrkan.se/gullspang/kalender/skapa-och-laga-21/
END:VEVENT
BEGIN:VEVENT
DTSTART;TZID=Europe/Stockholm:20260514T090000
DTEND;TZID=Europe/Stockholm:20260514T090000
DTSTAMP:20260420T092907
CREATED:20260315T164113Z
LAST-MODIFIED:20260315T164113Z
UID:10000589-1778749200-1778749200@equmeniakyrkan.se
SUMMARY:Gökotta på Sörön\, (om vädret tillåter)\, ta med fikakorg och egen stol
DESCRIPTION:
URL:https://equmeniakyrkan.se/gullspang/kalender/gokotta-pa-soron-om-vadret-tillater-ta-med-fikakorg-och-egen-stol/
END:VEVENT
BEGIN:VEVENT
DTSTART;TZID=Europe/Stockholm:20260517T110000
DTEND;TZID=Europe/Stockholm:20260517T110000
DTSTAMP:20260420T092907
CREATED:20260315T164218Z
LAST-MODIFIED:20260315T164218Z
UID:10000590-1779015600-1779015600@equmeniakyrkan.se
SUMMARY:Gudstjänst\, Jan Gustafson\, Nattvard\, kyrkkaffe
DESCRIPTION:
URL:https://equmeniakyrkan.se/gullspang/kalender/gudstjanst-jan-gustafson-nattvard-kyrkkaffe-3/
END:VEVENT
BEGIN:VEVENT
DTSTART;TZID=Europe/Stockholm:20260518T170000
DTEND;TZID=Europe/Stockholm:20260518T170000
DTSTAMP:20260420T092907
CREATED:20260315T163413Z
LAST-MODIFIED:20260315T163413Z
UID:10000582-1779123600-1779123600@equmeniakyrkan.se
SUMMARY:Skapa och Laga
DESCRIPTION:
URL:https://equmeniakyrkan.se/gullspang/kalender/skapa-och-laga-22/
END:VEVENT
BEGIN:VEVENT
DTSTART;TZID=Europe/Stockholm:20260521T190000
DTEND;TZID=Europe/Stockholm:20260521T190000
DTSTAMP:20260420T092907
CREATED:20260315T164337Z
LAST-MODIFIED:20260315T164337Z
UID:10000591-1779390000-1779390000@equmeniakyrkan.se
SUMMARY:Bön
DESCRIPTION:
URL:https://equmeniakyrkan.se/gullspang/kalender/bon-21/
END:VEVENT
BEGIN:VEVENT
DTSTART;TZID=Europe/Stockholm:20260524T110000
DTEND;TZID=Europe/Stockholm:20260524T110000
DTSTAMP:20260420T092907
CREATED:20260315T164455Z
LAST-MODIFIED:20260315T164455Z
UID:10000592-1779620400-1779620400@equmeniakyrkan.se
SUMMARY:Gudstjänst\, Anette Brandberg\, Kyrkkaffe med tårtbuffé
DESCRIPTION:
URL:https://equmeniakyrkan.se/gullspang/kalender/gudstjanst-anette-brandberg-kyrkkaffe-med-tartbuffe/
END:VEVENT
BEGIN:VEVENT
DTSTART;TZID=Europe/Stockholm:20260525T170000
DTEND;TZID=Europe/Stockholm:20260525T170000
DTSTAMP:20260420T092907
CREATED:20260315T163501Z
LAST-MODIFIED:20260315T163501Z
UID:10000583-1779728400-1779728400@equmeniakyrkan.se
SUMMARY:Skapa och Laga
DESCRIPTION:
URL:https://equmeniakyrkan.se/gullspang/kalender/skapa-och-laga-23/
END:VEVENT
BEGIN:VEVENT
DTSTART;TZID=Europe/Stockholm:20260528T180000
DTEND;TZID=Europe/Stockholm:20260528T180000
DTSTAMP:20260420T092907
CREATED:20260315T164555Z
LAST-MODIFIED:20260315T164555Z
UID:10000593-1779991200-1779991200@equmeniakyrkan.se
SUMMARY:Pilgrimspromenad i Nunnestad
DESCRIPTION:
URL:https://equmeniakyrkan.se/gullspang/kalender/pilgrimspromenad-i-nunnestad/
END:VEVENT
END:VCALENDAR