BEGIN:VCALENDAR
VERSION:2.0
PRODID:-//Equmeniakyrkan Hemse - ECPv6.15.18//NONSGML v1.0//EN
CALSCALE:GREGORIAN
METHOD:PUBLISH
X-WR-CALNAME:Equmeniakyrkan Hemse
X-ORIGINAL-URL:https://equmeniakyrkan.se/hemse
X-WR-CALDESC:Händelser för Equmeniakyrkan Hemse
REFRESH-INTERVAL;VALUE=DURATION:PT1H
X-Robots-Tag:noindex
X-PUBLISHED-TTL:PT1H
BEGIN:VTIMEZONE
TZID:Europe/Stockholm
BEGIN:DAYLIGHT
TZOFFSETFROM:+0100
TZOFFSETTO:+0200
TZNAME:CEST
DTSTART:20250330T010000
END:DAYLIGHT
BEGIN:STANDARD
TZOFFSETFROM:+0200
TZOFFSETTO:+0100
TZNAME:CET
DTSTART:20251026T010000
END:STANDARD
BEGIN:DAYLIGHT
TZOFFSETFROM:+0100
TZOFFSETTO:+0200
TZNAME:CEST
DTSTART:20260329T010000
END:DAYLIGHT
BEGIN:STANDARD
TZOFFSETFROM:+0200
TZOFFSETTO:+0100
TZNAME:CET
DTSTART:20261025T010000
END:STANDARD
BEGIN:DAYLIGHT
TZOFFSETFROM:+0100
TZOFFSETTO:+0200
TZNAME:CEST
DTSTART:20270328T010000
END:DAYLIGHT
BEGIN:STANDARD
TZOFFSETFROM:+0200
TZOFFSETTO:+0100
TZNAME:CET
DTSTART:20271031T010000
END:STANDARD
END:VTIMEZONE
BEGIN:VEVENT
DTSTART;TZID=Europe/Stockholm:20260419T110000
DTEND;TZID=Europe/Stockholm:20260419T130000
DTSTAMP:20260420T010917
CREATED:20260225T090458Z
LAST-MODIFIED:20260225T090458Z
UID:10007829-1776596400-1776603600@equmeniakyrkan.se
SUMMARY:Gudstjänst med Ola Dorve
DESCRIPTION:Ola Dorve predikar\nKyrkkaffe
URL:https://equmeniakyrkan.se/hemse/kalender/gudstjanst-med-ola-dorve/
END:VEVENT
END:VCALENDAR