BEGIN:VCALENDAR
VERSION:2.0
PRODID:-//Equmeniakyrkan Hemse - ECPv6.15.18//NONSGML v1.0//EN
CALSCALE:GREGORIAN
METHOD:PUBLISH
X-WR-CALNAME:Equmeniakyrkan Hemse
X-ORIGINAL-URL:https://equmeniakyrkan.se/hemse
X-WR-CALDESC:Händelser för Equmeniakyrkan Hemse
REFRESH-INTERVAL;VALUE=DURATION:PT1H
X-Robots-Tag:noindex
X-PUBLISHED-TTL:PT1H
BEGIN:VTIMEZONE
TZID:Europe/Stockholm
BEGIN:DAYLIGHT
TZOFFSETFROM:+0100
TZOFFSETTO:+0200
TZNAME:CEST
DTSTART:20250330T010000
END:DAYLIGHT
BEGIN:STANDARD
TZOFFSETFROM:+0200
TZOFFSETTO:+0100
TZNAME:CET
DTSTART:20251026T010000
END:STANDARD
BEGIN:DAYLIGHT
TZOFFSETFROM:+0100
TZOFFSETTO:+0200
TZNAME:CEST
DTSTART:20260329T010000
END:DAYLIGHT
BEGIN:STANDARD
TZOFFSETFROM:+0200
TZOFFSETTO:+0100
TZNAME:CET
DTSTART:20261025T010000
END:STANDARD
BEGIN:DAYLIGHT
TZOFFSETFROM:+0100
TZOFFSETTO:+0200
TZNAME:CEST
DTSTART:20270328T010000
END:DAYLIGHT
BEGIN:STANDARD
TZOFFSETFROM:+0200
TZOFFSETTO:+0100
TZNAME:CET
DTSTART:20271031T010000
END:STANDARD
END:VTIMEZONE
BEGIN:VEVENT
DTSTART;TZID=Europe/Stockholm:20260421T133000
DTEND;TZID=Europe/Stockholm:20260421T150000
DTSTAMP:20260421T100128
CREATED:20260114T082953Z
LAST-MODIFIED:20260114T082953Z
UID:10007781-1776778200-1776783600@equmeniakyrkan.se
SUMMARY:Dagkyrkan
DESCRIPTION:Vi samlas för att ta del av ett program\, vi dricker kaffe tillsammans och samlingen avslutas med en kort andakt.
URL:https://equmeniakyrkan.se/hemse/kalender/dagkyrkan-86/2026-04-21/
END:VEVENT
END:VCALENDAR