BEGIN:VCALENDAR
VERSION:2.0
PRODID:-//Equmeniakyrkan Loo - ECPv6.15.18//NONSGML v1.0//EN
CALSCALE:GREGORIAN
METHOD:PUBLISH
X-WR-CALNAME:Equmeniakyrkan Loo
X-ORIGINAL-URL:https://equmeniakyrkan.se/loo
X-WR-CALDESC:Händelser för Equmeniakyrkan Loo
REFRESH-INTERVAL;VALUE=DURATION:PT1H
X-Robots-Tag:noindex
X-PUBLISHED-TTL:PT1H
BEGIN:VTIMEZONE
TZID:Europe/Stockholm
BEGIN:DAYLIGHT
TZOFFSETFROM:+0100
TZOFFSETTO:+0200
TZNAME:CEST
DTSTART:20250330T010000
END:DAYLIGHT
BEGIN:STANDARD
TZOFFSETFROM:+0200
TZOFFSETTO:+0100
TZNAME:CET
DTSTART:20251026T010000
END:STANDARD
BEGIN:DAYLIGHT
TZOFFSETFROM:+0100
TZOFFSETTO:+0200
TZNAME:CEST
DTSTART:20260329T010000
END:DAYLIGHT
BEGIN:STANDARD
TZOFFSETFROM:+0200
TZOFFSETTO:+0100
TZNAME:CET
DTSTART:20261025T010000
END:STANDARD
BEGIN:DAYLIGHT
TZOFFSETFROM:+0100
TZOFFSETTO:+0200
TZNAME:CEST
DTSTART:20270328T010000
END:DAYLIGHT
BEGIN:STANDARD
TZOFFSETFROM:+0200
TZOFFSETTO:+0100
TZNAME:CET
DTSTART:20271031T010000
END:STANDARD
END:VTIMEZONE
BEGIN:VEVENT
DTSTART;TZID=Europe/Stockholm:20260419T100000
DTEND;TZID=Europe/Stockholm:20260419T100000
DTSTAMP:20260420T230011
CREATED:20260228T102047Z
LAST-MODIFIED:20260228T102047Z
UID:10003100-1776592800-1776592800@equmeniakyrkan.se
SUMMARY:Gudstjänst
DESCRIPTION:”Vår fader – allt börjar & slutar hos Gud”. Johnny Brorsson\, Joakim & Matts Blomberg. Söndagspuls.
URL:https://equmeniakyrkan.se/loo/kalender/gudstjanst-112/
END:VEVENT
BEGIN:VEVENT
DTSTART;TZID=Europe/Stockholm:20260419T120000
DTEND;TZID=Europe/Stockholm:20260419T120000
DTSTAMP:20260420T230011
CREATED:20260228T102200Z
LAST-MODIFIED:20260228T102200Z
UID:10003101-1776600000-1776600000@equmeniakyrkan.se
SUMMARY:Församlingsmöte
DESCRIPTION:
URL:https://equmeniakyrkan.se/loo/kalender/forsamlingsmote-11/
END:VEVENT
BEGIN:VEVENT
DTSTART;TZID=Europe/Stockholm:20260419T190000
DTEND;TZID=Europe/Stockholm:20260419T190000
DTSTAMP:20260420T230011
CREATED:20260228T102400Z
LAST-MODIFIED:20260228T102400Z
UID:10003102-1776625200-1776625200@equmeniakyrkan.se
SUMMARY:Unga vuxna brottas med Gud
DESCRIPTION:”Hur kan jag stå emot det onda?”
URL:https://equmeniakyrkan.se/loo/kalender/unga-vuxna-brottas-med-gud-2/
END:VEVENT
END:VCALENDAR