BEGIN:VCALENDAR
VERSION:2.0
PRODID:-//Nora-Tärnsjö Missionsförsamling - ECPv6.15.18//NONSGML v1.0//EN
CALSCALE:GREGORIAN
METHOD:PUBLISH
X-WR-CALNAME:Nora-Tärnsjö Missionsförsamling
X-ORIGINAL-URL:https://equmeniakyrkan.se/noratarnsjo
X-WR-CALDESC:Händelser för Nora-Tärnsjö Missionsförsamling
REFRESH-INTERVAL;VALUE=DURATION:PT1H
X-Robots-Tag:noindex
X-PUBLISHED-TTL:PT1H
BEGIN:VTIMEZONE
TZID:Europe/Stockholm
BEGIN:DAYLIGHT
TZOFFSETFROM:+0100
TZOFFSETTO:+0200
TZNAME:CEST
DTSTART:20250330T010000
END:DAYLIGHT
BEGIN:STANDARD
TZOFFSETFROM:+0200
TZOFFSETTO:+0100
TZNAME:CET
DTSTART:20251026T010000
END:STANDARD
BEGIN:DAYLIGHT
TZOFFSETFROM:+0100
TZOFFSETTO:+0200
TZNAME:CEST
DTSTART:20260329T010000
END:DAYLIGHT
BEGIN:STANDARD
TZOFFSETFROM:+0200
TZOFFSETTO:+0100
TZNAME:CET
DTSTART:20261025T010000
END:STANDARD
BEGIN:DAYLIGHT
TZOFFSETFROM:+0100
TZOFFSETTO:+0200
TZNAME:CEST
DTSTART:20270328T010000
END:DAYLIGHT
BEGIN:STANDARD
TZOFFSETFROM:+0200
TZOFFSETTO:+0100
TZNAME:CET
DTSTART:20271031T010000
END:STANDARD
END:VTIMEZONE
BEGIN:VEVENT
DTSTART;TZID=Europe/Stockholm:20260423T090000
DTEND;TZID=Europe/Stockholm:20260423T090000
DTSTAMP:20260423T225524
CREATED:20260317T033022Z
LAST-MODIFIED:20260317T033022Z
UID:10006735-1776934800-1776934800@equmeniakyrkan.se
SUMMARY:Morgonbön
DESCRIPTION:
URL:https://equmeniakyrkan.se/noratarnsjo/kalender/morgonbon-24/
END:VEVENT
BEGIN:VEVENT
DTSTART;TZID=Europe/Stockholm:20260423T110000
DTEND;TZID=Europe/Stockholm:20260423T140000
DTSTAMP:20260423T225524
CREATED:20260317T033211Z
LAST-MODIFIED:20260317T033211Z
UID:10006738-1776942000-1776952800@equmeniakyrkan.se
SUMMARY:Omtanken
DESCRIPTION:En mötesplats för dig som vill ta en fika och prata en stund. Öppet kl 11-14.
URL:https://equmeniakyrkan.se/noratarnsjo/kalender/omtanken-29/
END:VEVENT
END:VCALENDAR