BEGIN:VCALENDAR
VERSION:2.0
PRODID:-//Equmeniakyrkan Östervåla - ECPv6.15.18//NONSGML v1.0//EN
CALSCALE:GREGORIAN
METHOD:PUBLISH
X-WR-CALNAME:Equmeniakyrkan Östervåla
X-ORIGINAL-URL:https://equmeniakyrkan.se/ostervala
X-WR-CALDESC:Händelser för Equmeniakyrkan Östervåla
REFRESH-INTERVAL;VALUE=DURATION:PT1H
X-Robots-Tag:noindex
X-PUBLISHED-TTL:PT1H
BEGIN:VTIMEZONE
TZID:Europe/Stockholm
BEGIN:DAYLIGHT
TZOFFSETFROM:+0100
TZOFFSETTO:+0200
TZNAME:CEST
DTSTART:20250330T010000
END:DAYLIGHT
BEGIN:STANDARD
TZOFFSETFROM:+0200
TZOFFSETTO:+0100
TZNAME:CET
DTSTART:20251026T010000
END:STANDARD
BEGIN:DAYLIGHT
TZOFFSETFROM:+0100
TZOFFSETTO:+0200
TZNAME:CEST
DTSTART:20260329T010000
END:DAYLIGHT
BEGIN:STANDARD
TZOFFSETFROM:+0200
TZOFFSETTO:+0100
TZNAME:CET
DTSTART:20261025T010000
END:STANDARD
BEGIN:DAYLIGHT
TZOFFSETFROM:+0100
TZOFFSETTO:+0200
TZNAME:CEST
DTSTART:20270328T010000
END:DAYLIGHT
BEGIN:STANDARD
TZOFFSETFROM:+0200
TZOFFSETTO:+0100
TZNAME:CET
DTSTART:20271031T010000
END:STANDARD
END:VTIMEZONE
BEGIN:VEVENT
DTSTART;TZID=Europe/Stockholm:20260423T150000
DTEND;TZID=Europe/Stockholm:20260423T150000
DTSTAMP:20260424T032945
CREATED:20260308T134235Z
LAST-MODIFIED:20260308T134235Z
UID:10098095-1776956400-1776956400@equmeniakyrkan.se
SUMMARY:Petrusgrupp
DESCRIPTION:”Nimråd och andra världshärkare.” Lars-Erik Larsson.
URL:https://equmeniakyrkan.se/ostervala/kalender/petrusgrupp-22/
END:VEVENT
BEGIN:VEVENT
DTSTART;TZID=Europe/Stockholm:20260423T183000
DTEND;TZID=Europe/Stockholm:20260423T183000
DTSTAMP:20260424T032945
CREATED:20260308T134304Z
LAST-MODIFIED:20260308T134304Z
UID:10098096-1776969000-1776969000@equmeniakyrkan.se
SUMMARY:Scout
DESCRIPTION:
URL:https://equmeniakyrkan.se/ostervala/kalender/scout-86/
END:VEVENT
END:VCALENDAR