BEGIN:VCALENDAR
VERSION:2.0
PRODID:-//Equmeniakyrkan Östervåla - ECPv6.15.18//NONSGML v1.0//EN
CALSCALE:GREGORIAN
METHOD:PUBLISH
X-WR-CALNAME:Equmeniakyrkan Östervåla
X-ORIGINAL-URL:https://equmeniakyrkan.se/ostervala
X-WR-CALDESC:Händelser för Equmeniakyrkan Östervåla
REFRESH-INTERVAL;VALUE=DURATION:PT1H
X-Robots-Tag:noindex
X-PUBLISHED-TTL:PT1H
BEGIN:VTIMEZONE
TZID:Europe/Stockholm
BEGIN:DAYLIGHT
TZOFFSETFROM:+0100
TZOFFSETTO:+0200
TZNAME:CEST
DTSTART:20250330T010000
END:DAYLIGHT
BEGIN:STANDARD
TZOFFSETFROM:+0200
TZOFFSETTO:+0100
TZNAME:CET
DTSTART:20251026T010000
END:STANDARD
BEGIN:DAYLIGHT
TZOFFSETFROM:+0100
TZOFFSETTO:+0200
TZNAME:CEST
DTSTART:20260329T010000
END:DAYLIGHT
BEGIN:STANDARD
TZOFFSETFROM:+0200
TZOFFSETTO:+0100
TZNAME:CET
DTSTART:20261025T010000
END:STANDARD
BEGIN:DAYLIGHT
TZOFFSETFROM:+0100
TZOFFSETTO:+0200
TZNAME:CEST
DTSTART:20270328T010000
END:DAYLIGHT
BEGIN:STANDARD
TZOFFSETFROM:+0200
TZOFFSETTO:+0100
TZNAME:CET
DTSTART:20271031T010000
END:STANDARD
END:VTIMEZONE
BEGIN:VEVENT
DTSTART;TZID=Europe/Stockholm:20260419T170000
DTEND;TZID=Europe/Stockholm:20260419T170000
DTSTAMP:20260419T105407
CREATED:20260308T132514Z
LAST-MODIFIED:20260308T132514Z
UID:10098086-1776618000-1776618000@equmeniakyrkan.se
SUMMARY:Korv och bröd
DESCRIPTION:
URL:https://equmeniakyrkan.se/ostervala/kalender/korv-och-brod/
END:VEVENT
BEGIN:VEVENT
DTSTART;TZID=Europe/Stockholm:20260419T180000
DTEND;TZID=Europe/Stockholm:20260419T180000
DTSTAMP:20260419T105407
CREATED:20260308T132557Z
LAST-MODIFIED:20260308T132557Z
UID:10098087-1776621600-1776621600@equmeniakyrkan.se
SUMMARY:Kvällsgudstjänst
DESCRIPTION:Sara Löfstedt\, Lina Eriksson\, sång av Johanna Backman\, Per Enflo.
URL:https://equmeniakyrkan.se/ostervala/kalender/kvallsgudstjanst-10/
END:VEVENT
BEGIN:VEVENT
DTSTART;TZID=Europe/Stockholm:20260420T183000
DTEND;TZID=Europe/Stockholm:20260420T183000
DTSTAMP:20260419T105407
CREATED:20260308T133814Z
LAST-MODIFIED:20260308T133814Z
UID:10098088-1776709800-1776709800@equmeniakyrkan.se
SUMMARY:Mekarkväll hos Göran Öman
DESCRIPTION:
URL:https://equmeniakyrkan.se/ostervala/kalender/mekarkvall-hos-goran-oman-46/
END:VEVENT
BEGIN:VEVENT
DTSTART;TZID=Europe/Stockholm:20260421T100000
DTEND;TZID=Europe/Stockholm:20260421T100000
DTSTAMP:20260419T105407
CREATED:20260308T133842Z
LAST-MODIFIED:20260308T133842Z
UID:10098089-1776765600-1776765600@equmeniakyrkan.se
SUMMARY:Bön
DESCRIPTION:
URL:https://equmeniakyrkan.se/ostervala/kalender/bon-311/
END:VEVENT
BEGIN:VEVENT
DTSTART;TZID=Europe/Stockholm:20260421T180000
DTEND;TZID=Europe/Stockholm:20260421T180000
DTSTAMP:20260419T105407
CREATED:20260308T133911Z
LAST-MODIFIED:20260308T133911Z
UID:10098090-1776794400-1776794400@equmeniakyrkan.se
SUMMARY:Tweenies
DESCRIPTION:
URL:https://equmeniakyrkan.se/ostervala/kalender/tweenies-121/
END:VEVENT
BEGIN:VEVENT
DTSTART;TZID=Europe/Stockholm:20260421T190000
DTEND;TZID=Europe/Stockholm:20260421T193000
DTSTAMP:20260419T105407
CREATED:20260308T133948Z
LAST-MODIFIED:20260308T133948Z
UID:10098091-1776798000-1776799800@equmeniakyrkan.se
SUMMARY:Bön
DESCRIPTION:”En liten stund med Jesus.”
URL:https://equmeniakyrkan.se/ostervala/kalender/bon-312/
END:VEVENT
BEGIN:VEVENT
DTSTART;TZID=Europe/Stockholm:20260421T193000
DTEND;TZID=Europe/Stockholm:20260421T193000
DTSTAMP:20260419T105407
CREATED:20260308T134017Z
LAST-MODIFIED:20260308T134017Z
UID:10098092-1776799800-1776799800@equmeniakyrkan.se
SUMMARY:Connect
DESCRIPTION:
URL:https://equmeniakyrkan.se/ostervala/kalender/connect-121/
END:VEVENT
BEGIN:VEVENT
DTSTART;TZID=Europe/Stockholm:20260422T060000
DTEND;TZID=Europe/Stockholm:20260422T060000
DTSTAMP:20260419T105407
CREATED:20260308T134046Z
LAST-MODIFIED:20260308T134046Z
UID:10098093-1776837600-1776837600@equmeniakyrkan.se
SUMMARY:Morgonbön
DESCRIPTION:
URL:https://equmeniakyrkan.se/ostervala/kalender/morgonbon-8/
END:VEVENT
BEGIN:VEVENT
DTSTART;TZID=Europe/Stockholm:20260422T191500
DTEND;TZID=Europe/Stockholm:20260422T191500
DTSTAMP:20260419T105407
CREATED:20260308T134128Z
LAST-MODIFIED:20260308T134128Z
UID:10098094-1776885300-1776885300@equmeniakyrkan.se
SUMMARY:Sinnesrogudstjänst
DESCRIPTION:
URL:https://equmeniakyrkan.se/ostervala/kalender/sinnesrogudstjanst-36/
END:VEVENT
BEGIN:VEVENT
DTSTART;TZID=Europe/Stockholm:20260423T150000
DTEND;TZID=Europe/Stockholm:20260423T150000
DTSTAMP:20260419T105407
CREATED:20260308T134235Z
LAST-MODIFIED:20260308T134235Z
UID:10098095-1776956400-1776956400@equmeniakyrkan.se
SUMMARY:Petrusgrupp
DESCRIPTION:”Nimråd och andra världshärkare.” Lars-Erik Larsson.
URL:https://equmeniakyrkan.se/ostervala/kalender/petrusgrupp-22/
END:VEVENT
BEGIN:VEVENT
DTSTART;TZID=Europe/Stockholm:20260423T183000
DTEND;TZID=Europe/Stockholm:20260423T183000
DTSTAMP:20260419T105407
CREATED:20260308T134304Z
LAST-MODIFIED:20260308T134304Z
UID:10098096-1776969000-1776969000@equmeniakyrkan.se
SUMMARY:Scout
DESCRIPTION:
URL:https://equmeniakyrkan.se/ostervala/kalender/scout-86/
END:VEVENT
BEGIN:VEVENT
DTSTART;TZID=Europe/Stockholm:20260424T173000
DTEND;TZID=Europe/Stockholm:20260424T173000
DTSTAMP:20260419T105407
CREATED:20260308T135036Z
LAST-MODIFIED:20260308T135036Z
UID:10098097-1777051800-1777051800@equmeniakyrkan.se
SUMMARY:Tacokväll. 19.00 Efterglöd
DESCRIPTION:Maten står på bordet kl. 17.30–18.30.\nRekommenderat pris: 80 kr för vuxna\, 40 kr för barn\, 200 kr för familj.\n19.00 Efterglöd\, intervju med Ida Larsson.
URL:https://equmeniakyrkan.se/ostervala/kalender/tacokvall-19-00-efterglod-15/
END:VEVENT
BEGIN:VEVENT
DTSTART;TZID=Europe/Stockholm:20260424T183000
DTEND;TZID=Europe/Stockholm:20260424T183000
DTSTAMP:20260419T105407
CREATED:20260308T135133Z
LAST-MODIFIED:20260308T135133Z
UID:10098098-1777055400-1777055400@equmeniakyrkan.se
SUMMARY:SMU i Sporthallen
DESCRIPTION:
URL:https://equmeniakyrkan.se/ostervala/kalender/smu-i-sporthallen-49/
END:VEVENT
BEGIN:VEVENT
DTSTART;TZID=Europe/Stockholm:20260424T200000
DTEND;TZID=Europe/Stockholm:20260424T200000
DTSTAMP:20260419T105407
CREATED:20260308T135200Z
LAST-MODIFIED:20260308T135200Z
UID:10098099-1777060800-1777060800@equmeniakyrkan.se
SUMMARY:Tonår
DESCRIPTION:
URL:https://equmeniakyrkan.se/ostervala/kalender/tonar-103/
END:VEVENT
BEGIN:VEVENT
DTSTART;VALUE=DATE:20260425
DTEND;VALUE=DATE:20260427
DTSTAMP:20260419T105407
CREATED:20260413T190931Z
LAST-MODIFIED:20260413T190931Z
UID:10098172-1777075200-1777247999@equmeniakyrkan.se
SUMMARY:Scout
DESCRIPTION:Mittkampen för patrullerna Rödrävarna och Lodjuren\nMer information finns separat på sociala medier.\nFrågor och anmälan till Elin 070-980 32 49.
URL:https://equmeniakyrkan.se/ostervala/kalender/scout-90/
END:VEVENT
BEGIN:VEVENT
DTSTART;TZID=Europe/Stockholm:20260425T100000
DTEND;TZID=Europe/Stockholm:20260425T100000
DTSTAMP:20260419T105407
CREATED:20260315T195249Z
LAST-MODIFIED:20260315T195249Z
UID:10098171-1777111200-1777111200@equmeniakyrkan.se
SUMMARY:Arbetsdag
DESCRIPTION:
URL:https://equmeniakyrkan.se/ostervala/kalender/arbetsdag-5/
END:VEVENT
BEGIN:VEVENT
DTSTART;TZID=Europe/Stockholm:20260425T190000
DTEND;TZID=Europe/Stockholm:20260425T190000
DTSTAMP:20260419T105407
CREATED:20260308T135237Z
LAST-MODIFIED:20260308T135237Z
UID:10098100-1777143600-1777143600@equmeniakyrkan.se
SUMMARY:Ungdomsmöte
DESCRIPTION:
URL:https://equmeniakyrkan.se/ostervala/kalender/ungdomsmote-2/
END:VEVENT
BEGIN:VEVENT
DTSTART;TZID=Europe/Stockholm:20260426T110000
DTEND;TZID=Europe/Stockholm:20260426T110000
DTSTAMP:20260419T105407
CREATED:20260308T135323Z
LAST-MODIFIED:20260308T135323Z
UID:10098101-1777201200-1777201200@equmeniakyrkan.se
SUMMARY:Gudstjänst med nattvard
DESCRIPTION:Samuel Wångehag\, Karin Lindberg\, sång av Malin Edlund. Nationella insamlingen. Fyren. Kyrkfika.
URL:https://equmeniakyrkan.se/ostervala/kalender/gudstjanst-med-nattvard-17/
END:VEVENT
BEGIN:VEVENT
DTSTART;TZID=Europe/Stockholm:20260427T183000
DTEND;TZID=Europe/Stockholm:20260427T183000
DTSTAMP:20260419T105407
CREATED:20260308T135554Z
LAST-MODIFIED:20260308T135554Z
UID:10098102-1777314600-1777314600@equmeniakyrkan.se
SUMMARY:Mekarkväll hos Göran Öman
DESCRIPTION:
URL:https://equmeniakyrkan.se/ostervala/kalender/mekarkvall-hos-goran-oman-47/
END:VEVENT
BEGIN:VEVENT
DTSTART;TZID=Europe/Stockholm:20260428T100000
DTEND;TZID=Europe/Stockholm:20260428T100000
DTSTAMP:20260419T105407
CREATED:20260308T135624Z
LAST-MODIFIED:20260308T135624Z
UID:10098103-1777370400-1777370400@equmeniakyrkan.se
SUMMARY:Bön
DESCRIPTION:
URL:https://equmeniakyrkan.se/ostervala/kalender/bon-313/
END:VEVENT
BEGIN:VEVENT
DTSTART;TZID=Europe/Stockholm:20260428T180000
DTEND;TZID=Europe/Stockholm:20260428T180000
DTSTAMP:20260419T105407
CREATED:20260308T135649Z
LAST-MODIFIED:20260308T135649Z
UID:10098104-1777399200-1777399200@equmeniakyrkan.se
SUMMARY:Tweenies
DESCRIPTION:
URL:https://equmeniakyrkan.se/ostervala/kalender/tweenies-122/
END:VEVENT
BEGIN:VEVENT
DTSTART;TZID=Europe/Stockholm:20260428T190000
DTEND;TZID=Europe/Stockholm:20260428T193000
DTSTAMP:20260419T105407
CREATED:20260308T135724Z
LAST-MODIFIED:20260308T135724Z
UID:10098105-1777402800-1777404600@equmeniakyrkan.se
SUMMARY:Bön
DESCRIPTION:”En liten stund med Jesus.”
URL:https://equmeniakyrkan.se/ostervala/kalender/bon-314/
END:VEVENT
BEGIN:VEVENT
DTSTART;TZID=Europe/Stockholm:20260428T193000
DTEND;TZID=Europe/Stockholm:20260428T193000
DTSTAMP:20260419T105407
CREATED:20260308T135753Z
LAST-MODIFIED:20260308T135753Z
UID:10098106-1777404600-1777404600@equmeniakyrkan.se
SUMMARY:Connect
DESCRIPTION:
URL:https://equmeniakyrkan.se/ostervala/kalender/connect-122/
END:VEVENT
BEGIN:VEVENT
DTSTART;TZID=Europe/Stockholm:20260429T060000
DTEND;TZID=Europe/Stockholm:20260429T060000
DTSTAMP:20260419T105407
CREATED:20260308T135818Z
LAST-MODIFIED:20260308T135818Z
UID:10098107-1777442400-1777442400@equmeniakyrkan.se
SUMMARY:Morgonbön
DESCRIPTION:
URL:https://equmeniakyrkan.se/ostervala/kalender/morgonbon-9/
END:VEVENT
BEGIN:VEVENT
DTSTART;TZID=Europe/Stockholm:20260429T183000
DTEND;TZID=Europe/Stockholm:20260429T183000
DTSTAMP:20260419T105407
CREATED:20260308T135851Z
LAST-MODIFIED:20260308T135851Z
UID:10098108-1777487400-1777487400@equmeniakyrkan.se
SUMMARY:Minikören
DESCRIPTION:
URL:https://equmeniakyrkan.se/ostervala/kalender/minikoren-53/
END:VEVENT
BEGIN:VEVENT
DTSTART;TZID=Europe/Stockholm:20260430T120000
DTEND;TZID=Europe/Stockholm:20260430T120000
DTSTAMP:20260419T105407
CREATED:20260308T135927Z
LAST-MODIFIED:20260308T135927Z
UID:10098109-1777550400-1777550400@equmeniakyrkan.se
SUMMARY:Träff Ljuspunkten
DESCRIPTION:Lennart Andersson och Bertil Teodorsson sjunger och berättar om Dan Andersson. Lotteri.
URL:https://equmeniakyrkan.se/ostervala/kalender/traff-ljuspunkten-51/
END:VEVENT
BEGIN:VEVENT
DTSTART;TZID=Europe/Stockholm:20260501T090000
DTEND;TZID=Europe/Stockholm:20260501T090000
DTSTAMP:20260419T105407
CREATED:20260309T223939Z
LAST-MODIFIED:20260309T223939Z
UID:10098110-1777626000-1777626000@equmeniakyrkan.se
SUMMARY:Arbetsdag på Älvåsa
DESCRIPTION:
URL:https://equmeniakyrkan.se/ostervala/kalender/arbetsdag-pa-alvasa/
END:VEVENT
BEGIN:VEVENT
DTSTART;TZID=Europe/Stockholm:20260501T200000
DTEND;TZID=Europe/Stockholm:20260501T200000
DTSTAMP:20260419T105407
CREATED:20260309T224040Z
LAST-MODIFIED:20260309T224040Z
UID:10098111-1777665600-1777665600@equmeniakyrkan.se
SUMMARY:Tonår
DESCRIPTION:
URL:https://equmeniakyrkan.se/ostervala/kalender/tonar-104/
END:VEVENT
BEGIN:VEVENT
DTSTART;TZID=Europe/Stockholm:20260502T190000
DTEND;TZID=Europe/Stockholm:20260502T190000
DTSTAMP:20260419T105407
CREATED:20260309T224313Z
LAST-MODIFIED:20260309T224431Z
UID:10098112-1777748400-1777748400@equmeniakyrkan.se
SUMMARY:Konsert med Adonai Gospel Choir från Glimåkra folkhögskola
DESCRIPTION:Servering. \nDet är vi som är Adonai Gospel Choir\, årets gospellinje på Glimåkra folkhögskola! Vi älskar att sjunga och spela tillsammans och få sprida gospelns budskap\, glädje och hopp till de människor vi möter. Under våren åker vi runt i landet och gör spelningar\, dels för att vi tycker det är så roligt\, och dels för att samla in pengar till vår studieresa till gospelns huvudstad Chicago i mars.\nVälkommen att sjunga gospel med oss!\nAlva Backman
URL:https://equmeniakyrkan.se/ostervala/kalender/konsert-med-adonai-gospel-choir-fran-glimakra-folkhogskola/
END:VEVENT
BEGIN:VEVENT
DTSTART;TZID=Europe/Stockholm:20260503T110000
DTEND;TZID=Europe/Stockholm:20260503T110000
DTSTAMP:20260419T105407
CREATED:20260309T224603Z
LAST-MODIFIED:20260409T221834Z
UID:10098113-1777806000-1777806000@equmeniakyrkan.se
SUMMARY:Gudstjänst
DESCRIPTION:Samuel Wångehag\, Rolf Edlund\, Kyrkfika.
URL:https://equmeniakyrkan.se/ostervala/kalender/gudstjanst-34/
END:VEVENT
END:VCALENDAR