BEGIN:VCALENDAR
VERSION:2.0
PRODID:-//Sämsjöborg Equmeniakyrkan - ECPv6.15.18//NONSGML v1.0//EN
CALSCALE:GREGORIAN
METHOD:PUBLISH
X-WR-CALNAME:Sämsjöborg Equmeniakyrkan
X-ORIGINAL-URL:https://equmeniakyrkan.se/samsjoborg
X-WR-CALDESC:Händelser för Sämsjöborg Equmeniakyrkan
REFRESH-INTERVAL;VALUE=DURATION:PT1H
X-Robots-Tag:noindex
X-PUBLISHED-TTL:PT1H
BEGIN:VTIMEZONE
TZID:Europe/Stockholm
BEGIN:DAYLIGHT
TZOFFSETFROM:+0100
TZOFFSETTO:+0200
TZNAME:CEST
DTSTART:20250330T010000
END:DAYLIGHT
BEGIN:STANDARD
TZOFFSETFROM:+0200
TZOFFSETTO:+0100
TZNAME:CET
DTSTART:20251026T010000
END:STANDARD
BEGIN:DAYLIGHT
TZOFFSETFROM:+0100
TZOFFSETTO:+0200
TZNAME:CEST
DTSTART:20260329T010000
END:DAYLIGHT
BEGIN:STANDARD
TZOFFSETFROM:+0200
TZOFFSETTO:+0100
TZNAME:CET
DTSTART:20261025T010000
END:STANDARD
BEGIN:DAYLIGHT
TZOFFSETFROM:+0100
TZOFFSETTO:+0200
TZNAME:CEST
DTSTART:20270328T010000
END:DAYLIGHT
BEGIN:STANDARD
TZOFFSETFROM:+0200
TZOFFSETTO:+0100
TZNAME:CET
DTSTART:20271031T010000
END:STANDARD
END:VTIMEZONE
BEGIN:VEVENT
DTSTART;TZID=Europe/Stockholm:20260423T160000
DTEND;TZID=Europe/Stockholm:20260423T170000
DTSTAMP:20260423T211911
CREATED:20251114T194324Z
LAST-MODIFIED:20251114T194324Z
UID:10001819-1776960000-1776963600@equmeniakyrkan.se
SUMMARY:Bön
DESCRIPTION:Bön på Sämsjöborg
URL:https://equmeniakyrkan.se/samsjoborg/kalender/bon-2-3-2-2/2026-04-23/
LOCATION:Sämsjöborg Equmaniakyrkan\, Sämsjöborg Equmeniakyrkan\, Ljung\, 52496\, Sverige
END:VEVENT
END:VCALENDAR