BEGIN:VCALENDAR
VERSION:2.0
PRODID:-//Equmeniakyrkan i Sjövik - ECPv6.15.18//NONSGML v1.0//EN
CALSCALE:GREGORIAN
METHOD:PUBLISH
X-WR-CALNAME:Equmeniakyrkan i Sjövik
X-ORIGINAL-URL:https://equmeniakyrkan.se/sjovik
X-WR-CALDESC:Händelser för Equmeniakyrkan i Sjövik
REFRESH-INTERVAL;VALUE=DURATION:PT1H
X-Robots-Tag:noindex
X-PUBLISHED-TTL:PT1H
BEGIN:VTIMEZONE
TZID:Europe/Stockholm
BEGIN:DAYLIGHT
TZOFFSETFROM:+0100
TZOFFSETTO:+0200
TZNAME:CEST
DTSTART:20250330T010000
END:DAYLIGHT
BEGIN:STANDARD
TZOFFSETFROM:+0200
TZOFFSETTO:+0100
TZNAME:CET
DTSTART:20251026T010000
END:STANDARD
BEGIN:DAYLIGHT
TZOFFSETFROM:+0100
TZOFFSETTO:+0200
TZNAME:CEST
DTSTART:20260329T010000
END:DAYLIGHT
BEGIN:STANDARD
TZOFFSETFROM:+0200
TZOFFSETTO:+0100
TZNAME:CET
DTSTART:20261025T010000
END:STANDARD
BEGIN:DAYLIGHT
TZOFFSETFROM:+0100
TZOFFSETTO:+0200
TZNAME:CEST
DTSTART:20270328T010000
END:DAYLIGHT
BEGIN:STANDARD
TZOFFSETFROM:+0200
TZOFFSETTO:+0100
TZNAME:CET
DTSTART:20271031T010000
END:STANDARD
END:VTIMEZONE
BEGIN:VEVENT
DTSTART;TZID=Europe/Stockholm:20260424T170000
DTEND;TZID=Europe/Stockholm:20260424T190000
DTSTAMP:20260424T145943
CREATED:20260225T221551Z
LAST-MODIFIED:20260225T221551Z
UID:10002471-1777050000-1777057200@equmeniakyrkan.se
SUMMARY:Tacokväll
DESCRIPTION:Alla som tycker om tacos är välkomna! Vi ses kl 17 för att skära grönsaker och steka färs\, och sen äter vi tacos tillsammans. Framåt 18.30 blir det en kort andakt och sen får man gå hem eller stanna kvar och spela brädspel. \nFrivillig avgift på ca 40 kr. \nAnmälan till Doreal på 076-005 37 05\, ange specialkost!
URL:https://equmeniakyrkan.se/sjovik/kalender/tacokvall-2/
LOCATION:Equmeniakyrkan i Sjövik\, Östad byväg 5\, Sjövik\, Sverige
CATEGORIES:Tacokväll
GEO:57.9248649;12.3598005
X-APPLE-STRUCTURED-LOCATION;VALUE=URI;X-ADDRESS=Equmeniakyrkan i Sjövik Östad byväg 5 Sjövik Sverige;X-APPLE-RADIUS=500;X-TITLE=Östad byväg 5:geo:12.3598005,57.9248649
END:VEVENT
END:VCALENDAR