BEGIN:VCALENDAR
VERSION:2.0
PRODID:-//Equmeniakyrkan i Surte - ECPv6.15.18//NONSGML v1.0//EN
CALSCALE:GREGORIAN
METHOD:PUBLISH
X-WR-CALNAME:Equmeniakyrkan i Surte
X-ORIGINAL-URL:https://equmeniakyrkan.se/surte
X-WR-CALDESC:Händelser för Equmeniakyrkan i Surte
REFRESH-INTERVAL;VALUE=DURATION:PT1H
X-Robots-Tag:noindex
X-PUBLISHED-TTL:PT1H
BEGIN:VTIMEZONE
TZID:Europe/Stockholm
BEGIN:DAYLIGHT
TZOFFSETFROM:+0100
TZOFFSETTO:+0200
TZNAME:CEST
DTSTART:20250330T010000
END:DAYLIGHT
BEGIN:STANDARD
TZOFFSETFROM:+0200
TZOFFSETTO:+0100
TZNAME:CET
DTSTART:20251026T010000
END:STANDARD
BEGIN:DAYLIGHT
TZOFFSETFROM:+0100
TZOFFSETTO:+0200
TZNAME:CEST
DTSTART:20260329T010000
END:DAYLIGHT
BEGIN:STANDARD
TZOFFSETFROM:+0200
TZOFFSETTO:+0100
TZNAME:CET
DTSTART:20261025T010000
END:STANDARD
BEGIN:DAYLIGHT
TZOFFSETFROM:+0100
TZOFFSETTO:+0200
TZNAME:CEST
DTSTART:20270328T010000
END:DAYLIGHT
BEGIN:STANDARD
TZOFFSETFROM:+0200
TZOFFSETTO:+0100
TZNAME:CET
DTSTART:20271031T010000
END:STANDARD
END:VTIMEZONE
BEGIN:VEVENT
DTSTART;TZID=Europe/Stockholm:20260421T180000
DTEND;TZID=Europe/Stockholm:20260421T190000
DTSTAMP:20260421T161553
CREATED:20251202T141026Z
LAST-MODIFIED:20251202T141155Z
UID:10004107-1776794400-1776798000@equmeniakyrkan.se
SUMMARY:Tisdagsbön
DESCRIPTION:Varje tisdag kl 18:00 är du varmt välkommen att vara med och be i kyrkan.
URL:https://equmeniakyrkan.se/surte/kalender/tisdagsbon-2/2026-04-21/
END:VEVENT
END:VCALENDAR