BEGIN:VCALENDAR
VERSION:2.0
PRODID:-//Töcksfors - ECPv6.15.18//NONSGML v1.0//EN
CALSCALE:GREGORIAN
METHOD:PUBLISH
X-WR-CALNAME:Töcksfors
X-ORIGINAL-URL:https://equmeniakyrkan.se/tocksfors
X-WR-CALDESC:Händelser för Töcksfors
REFRESH-INTERVAL;VALUE=DURATION:PT1H
X-Robots-Tag:noindex
X-PUBLISHED-TTL:PT1H
BEGIN:VTIMEZONE
TZID:Europe/Stockholm
BEGIN:DAYLIGHT
TZOFFSETFROM:+0100
TZOFFSETTO:+0200
TZNAME:CEST
DTSTART:20250330T010000
END:DAYLIGHT
BEGIN:STANDARD
TZOFFSETFROM:+0200
TZOFFSETTO:+0100
TZNAME:CET
DTSTART:20251026T010000
END:STANDARD
BEGIN:DAYLIGHT
TZOFFSETFROM:+0100
TZOFFSETTO:+0200
TZNAME:CEST
DTSTART:20260329T010000
END:DAYLIGHT
BEGIN:STANDARD
TZOFFSETFROM:+0200
TZOFFSETTO:+0100
TZNAME:CET
DTSTART:20261025T010000
END:STANDARD
BEGIN:DAYLIGHT
TZOFFSETFROM:+0100
TZOFFSETTO:+0200
TZNAME:CEST
DTSTART:20270328T010000
END:DAYLIGHT
BEGIN:STANDARD
TZOFFSETFROM:+0200
TZOFFSETTO:+0100
TZNAME:CET
DTSTART:20271031T010000
END:STANDARD
END:VTIMEZONE
BEGIN:VEVENT
DTSTART;TZID=Europe/Stockholm:20260426T110000
DTEND;TZID=Europe/Stockholm:20260426T110000
DTSTAMP:20260422T182729
CREATED:20260115T071816Z
LAST-MODIFIED:20260311T162508Z
UID:10001458-1777201200-1777201200@equmeniakyrkan.se
SUMMARY:Gudstjänst. Mogens Nielsen predikar. Sång av Erik och Lovisa Jonehög.
DESCRIPTION:
URL:https://equmeniakyrkan.se/tocksfors/kalender/gudstjanst-mogens-nielsen-predikar-3/
END:VEVENT
BEGIN:VEVENT
DTSTART;TZID=Europe/Stockholm:20260428T110000
DTEND;TZID=Europe/Stockholm:20260428T130000
DTSTAMP:20260422T182729
CREATED:20260317T161115Z
LAST-MODIFIED:20260317T161115Z
UID:10001469-1777374000-1777381200@equmeniakyrkan.se
SUMMARY:"Guds stora berättelse och vision". En serie bibelsamtal i 3 delar.
DESCRIPTION:
URL:https://equmeniakyrkan.se/tocksfors/kalender/guds-stora-berattelse-och-vision-en-serie-bibelsamtal-i-3-delar/2026-04-28/
END:VEVENT
BEGIN:VEVENT
DTSTART;TZID=Europe/Stockholm:20260428T190000
DTEND;TZID=Europe/Stockholm:20260428T190000
DTSTAMP:20260422T182729
CREATED:20260115T070715Z
LAST-MODIFIED:20260115T070715Z
UID:10001385-1777402800-1777402800@equmeniakyrkan.se
SUMMARY:Bibelsamtal och bön i Equmeniakyrkan
DESCRIPTION:
URL:https://equmeniakyrkan.se/tocksfors/kalender/bibelsamtal-och-bon-i-equmeniakyrkan-8/2026-04-28/
END:VEVENT
BEGIN:VEVENT
DTSTART;TZID=Europe/Stockholm:20260503T110000
DTEND;TZID=Europe/Stockholm:20260503T110000
DTSTAMP:20260422T182729
CREATED:20260311T162601Z
LAST-MODIFIED:20260311T162601Z
UID:10001461-1777806000-1777806000@equmeniakyrkan.se
SUMMARY:Gudstjänst
DESCRIPTION:
URL:https://equmeniakyrkan.se/tocksfors/kalender/gudstjanst-8/
END:VEVENT
BEGIN:VEVENT
DTSTART;TZID=Europe/Stockholm:20260505T190000
DTEND;TZID=Europe/Stockholm:20260505T190000
DTSTAMP:20260422T182729
CREATED:20260115T070838Z
LAST-MODIFIED:20260115T070838Z
UID:10001422-1778007600-1778007600@equmeniakyrkan.se
SUMMARY:Bibelsamtal och bön i Pingstkyrkan
DESCRIPTION:
URL:https://equmeniakyrkan.se/tocksfors/kalender/bibelsamtal-och-bon-i-pingstkyrkan-5/2026-05-05/
END:VEVENT
BEGIN:VEVENT
DTSTART;TZID=Europe/Stockholm:20260510T110000
DTEND;TZID=Europe/Stockholm:20260510T110000
DTSTAMP:20260422T182729
CREATED:20260311T162747Z
LAST-MODIFIED:20260311T162747Z
UID:10001462-1778410800-1778410800@equmeniakyrkan.se
SUMMARY:Gemensam Gudstjänst Equmeniakyrkan Östervallskog. Andreas Lorentzon predikar.
DESCRIPTION:
URL:https://equmeniakyrkan.se/tocksfors/kalender/gemensam-gudstjanst-equmeniakyrkan-ostervallskog-andreas-lorentzon-predikar/
END:VEVENT
BEGIN:VEVENT
DTSTART;TZID=Europe/Stockholm:20260512T190000
DTEND;TZID=Europe/Stockholm:20260512T190000
DTSTAMP:20260422T182729
CREATED:20260115T070715Z
LAST-MODIFIED:20260115T070715Z
UID:10001386-1778612400-1778612400@equmeniakyrkan.se
SUMMARY:Bibelsamtal och bön i Equmeniakyrkan
DESCRIPTION:
URL:https://equmeniakyrkan.se/tocksfors/kalender/bibelsamtal-och-bon-i-equmeniakyrkan-8/2026-05-12/
END:VEVENT
BEGIN:VEVENT
DTSTART;TZID=Europe/Stockholm:20260519T190000
DTEND;TZID=Europe/Stockholm:20260519T190000
DTSTAMP:20260422T182729
CREATED:20260115T070838Z
LAST-MODIFIED:20260115T070838Z
UID:10001423-1779217200-1779217200@equmeniakyrkan.se
SUMMARY:Bibelsamtal och bön i Pingstkyrkan
DESCRIPTION:
URL:https://equmeniakyrkan.se/tocksfors/kalender/bibelsamtal-och-bon-i-pingstkyrkan-5/2026-05-19/
END:VEVENT
BEGIN:VEVENT
DTSTART;TZID=Europe/Stockholm:20260520T110000
DTEND;TZID=Europe/Stockholm:20260520T110000
DTSTAMP:20260422T182729
CREATED:20260311T174924Z
LAST-MODIFIED:20260311T174924Z
UID:10001465-1779274800-1779274800@equmeniakyrkan.se
SUMMARY:Kaffedax. Besök av socialchef Malin Eklund m.fler
DESCRIPTION:
URL:https://equmeniakyrkan.se/tocksfors/kalender/kaffedax-besok-av-socialchef-malin-eklund-m-fler/
END:VEVENT
BEGIN:VEVENT
DTSTART;TZID=Europe/Stockholm:20260526T190000
DTEND;TZID=Europe/Stockholm:20260526T190000
DTSTAMP:20260422T182729
CREATED:20260115T070715Z
LAST-MODIFIED:20260115T070715Z
UID:10001387-1779822000-1779822000@equmeniakyrkan.se
SUMMARY:Bibelsamtal och bön i Equmeniakyrkan
DESCRIPTION:
URL:https://equmeniakyrkan.se/tocksfors/kalender/bibelsamtal-och-bon-i-equmeniakyrkan-8/2026-05-26/
END:VEVENT
BEGIN:VEVENT
DTSTART;TZID=Europe/Stockholm:20260531T110000
DTEND;TZID=Europe/Stockholm:20260531T110000
DTSTAMP:20260422T182729
CREATED:20260311T180325Z
LAST-MODIFIED:20260311T180325Z
UID:10001466-1780225200-1780225200@equmeniakyrkan.se
SUMMARY:Gudstjänst. Mogens Nielsen predikar. Vi firar mammorna så papporna sjunger för och med oss.
DESCRIPTION:
URL:https://equmeniakyrkan.se/tocksfors/kalender/gudstjanst-mogens-nielsen-predikar-vi-firar-mammorna-sa-papporna-sjunger-for-och-med-oss/
END:VEVENT
BEGIN:VEVENT
DTSTART;TZID=Europe/Stockholm:20260602T190000
DTEND;TZID=Europe/Stockholm:20260602T190000
DTSTAMP:20260422T182729
CREATED:20260115T070838Z
LAST-MODIFIED:20260115T070838Z
UID:10001424-1780426800-1780426800@equmeniakyrkan.se
SUMMARY:Bibelsamtal och bön i Pingstkyrkan
DESCRIPTION:
URL:https://equmeniakyrkan.se/tocksfors/kalender/bibelsamtal-och-bon-i-pingstkyrkan-5/2026-06-02/
END:VEVENT
BEGIN:VEVENT
DTSTART;TZID=Europe/Stockholm:20260607T110000
DTEND;TZID=Europe/Stockholm:20260607T110000
DTSTAMP:20260422T182729
CREATED:20250917T162811Z
LAST-MODIFIED:20260311T180447Z
UID:10001365-1780830000-1780830000@equmeniakyrkan.se
SUMMARY:Gemensam Gudstjänst Töcksfors. Sång av "Nära Dig"
DESCRIPTION:
URL:https://equmeniakyrkan.se/tocksfors/kalender/gemensam-gudstjanst-tocksfors-3/
END:VEVENT
BEGIN:VEVENT
DTSTART;TZID=Europe/Stockholm:20260609T190000
DTEND;TZID=Europe/Stockholm:20260609T190000
DTSTAMP:20260422T182729
CREATED:20260115T070715Z
LAST-MODIFIED:20260115T070715Z
UID:10001388-1781031600-1781031600@equmeniakyrkan.se
SUMMARY:Bibelsamtal och bön i Equmeniakyrkan
DESCRIPTION:
URL:https://equmeniakyrkan.se/tocksfors/kalender/bibelsamtal-och-bon-i-equmeniakyrkan-8/2026-06-09/
END:VEVENT
BEGIN:VEVENT
DTSTART;TZID=Europe/Stockholm:20260616T190000
DTEND;TZID=Europe/Stockholm:20260616T190000
DTSTAMP:20260422T182729
CREATED:20260115T070838Z
LAST-MODIFIED:20260115T070838Z
UID:10001425-1781636400-1781636400@equmeniakyrkan.se
SUMMARY:Bibelsamtal och bön i Pingstkyrkan
DESCRIPTION:
URL:https://equmeniakyrkan.se/tocksfors/kalender/bibelsamtal-och-bon-i-pingstkyrkan-5/2026-06-16/
END:VEVENT
BEGIN:VEVENT
DTSTART;TZID=Europe/Stockholm:20260623T190000
DTEND;TZID=Europe/Stockholm:20260623T190000
DTSTAMP:20260422T182729
CREATED:20260115T070715Z
LAST-MODIFIED:20260115T070715Z
UID:10001389-1782241200-1782241200@equmeniakyrkan.se
SUMMARY:Bibelsamtal och bön i Equmeniakyrkan
DESCRIPTION:
URL:https://equmeniakyrkan.se/tocksfors/kalender/bibelsamtal-och-bon-i-equmeniakyrkan-8/2026-06-23/
END:VEVENT
BEGIN:VEVENT
DTSTART;TZID=Europe/Stockholm:20260630T190000
DTEND;TZID=Europe/Stockholm:20260630T190000
DTSTAMP:20260422T182729
CREATED:20260115T070838Z
LAST-MODIFIED:20260115T070838Z
UID:10001426-1782846000-1782846000@equmeniakyrkan.se
SUMMARY:Bibelsamtal och bön i Pingstkyrkan
DESCRIPTION:
URL:https://equmeniakyrkan.se/tocksfors/kalender/bibelsamtal-och-bon-i-pingstkyrkan-5/2026-06-30/
END:VEVENT
BEGIN:VEVENT
DTSTART;TZID=Europe/Stockholm:20260707T190000
DTEND;TZID=Europe/Stockholm:20260707T190000
DTSTAMP:20260422T182729
CREATED:20260115T070715Z
LAST-MODIFIED:20260115T070715Z
UID:10001390-1783450800-1783450800@equmeniakyrkan.se
SUMMARY:Bibelsamtal och bön i Equmeniakyrkan
DESCRIPTION:
URL:https://equmeniakyrkan.se/tocksfors/kalender/bibelsamtal-och-bon-i-equmeniakyrkan-8/2026-07-07/
END:VEVENT
BEGIN:VEVENT
DTSTART;TZID=Europe/Stockholm:20260714T190000
DTEND;TZID=Europe/Stockholm:20260714T190000
DTSTAMP:20260422T182729
CREATED:20260115T070838Z
LAST-MODIFIED:20260115T070838Z
UID:10001427-1784055600-1784055600@equmeniakyrkan.se
SUMMARY:Bibelsamtal och bön i Pingstkyrkan
DESCRIPTION:
URL:https://equmeniakyrkan.se/tocksfors/kalender/bibelsamtal-och-bon-i-pingstkyrkan-5/2026-07-14/
END:VEVENT
BEGIN:VEVENT
DTSTART;TZID=Europe/Stockholm:20260721T190000
DTEND;TZID=Europe/Stockholm:20260721T190000
DTSTAMP:20260422T182729
CREATED:20260115T070715Z
LAST-MODIFIED:20260115T070715Z
UID:10001391-1784660400-1784660400@equmeniakyrkan.se
SUMMARY:Bibelsamtal och bön i Equmeniakyrkan
DESCRIPTION:
URL:https://equmeniakyrkan.se/tocksfors/kalender/bibelsamtal-och-bon-i-equmeniakyrkan-8/2026-07-21/
END:VEVENT
BEGIN:VEVENT
DTSTART;TZID=Europe/Stockholm:20260728T190000
DTEND;TZID=Europe/Stockholm:20260728T190000
DTSTAMP:20260422T182729
CREATED:20260115T070838Z
LAST-MODIFIED:20260115T070838Z
UID:10001428-1785265200-1785265200@equmeniakyrkan.se
SUMMARY:Bibelsamtal och bön i Pingstkyrkan
DESCRIPTION:
URL:https://equmeniakyrkan.se/tocksfors/kalender/bibelsamtal-och-bon-i-pingstkyrkan-5/2026-07-28/
END:VEVENT
BEGIN:VEVENT
DTSTART;TZID=Europe/Stockholm:20260804T190000
DTEND;TZID=Europe/Stockholm:20260804T190000
DTSTAMP:20260422T182730
CREATED:20260115T070715Z
LAST-MODIFIED:20260115T070715Z
UID:10001392-1785870000-1785870000@equmeniakyrkan.se
SUMMARY:Bibelsamtal och bön i Equmeniakyrkan
DESCRIPTION:
URL:https://equmeniakyrkan.se/tocksfors/kalender/bibelsamtal-och-bon-i-equmeniakyrkan-8/2026-08-04/
END:VEVENT
BEGIN:VEVENT
DTSTART;TZID=Europe/Stockholm:20260811T190000
DTEND;TZID=Europe/Stockholm:20260811T190000
DTSTAMP:20260422T182730
CREATED:20260115T070838Z
LAST-MODIFIED:20260115T070838Z
UID:10001429-1786474800-1786474800@equmeniakyrkan.se
SUMMARY:Bibelsamtal och bön i Pingstkyrkan
DESCRIPTION:
URL:https://equmeniakyrkan.se/tocksfors/kalender/bibelsamtal-och-bon-i-pingstkyrkan-5/2026-08-11/
END:VEVENT
BEGIN:VEVENT
DTSTART;TZID=Europe/Stockholm:20260818T190000
DTEND;TZID=Europe/Stockholm:20260818T190000
DTSTAMP:20260422T182730
CREATED:20260115T070715Z
LAST-MODIFIED:20260115T070715Z
UID:10001393-1787079600-1787079600@equmeniakyrkan.se
SUMMARY:Bibelsamtal och bön i Equmeniakyrkan
DESCRIPTION:
URL:https://equmeniakyrkan.se/tocksfors/kalender/bibelsamtal-och-bon-i-equmeniakyrkan-8/2026-08-18/
END:VEVENT
BEGIN:VEVENT
DTSTART;TZID=Europe/Stockholm:20260825T190000
DTEND;TZID=Europe/Stockholm:20260825T190000
DTSTAMP:20260422T182730
CREATED:20260115T070838Z
LAST-MODIFIED:20260115T070838Z
UID:10001430-1787684400-1787684400@equmeniakyrkan.se
SUMMARY:Bibelsamtal och bön i Pingstkyrkan
DESCRIPTION:
URL:https://equmeniakyrkan.se/tocksfors/kalender/bibelsamtal-och-bon-i-pingstkyrkan-5/2026-08-25/
END:VEVENT
BEGIN:VEVENT
DTSTART;TZID=Europe/Stockholm:20260901T190000
DTEND;TZID=Europe/Stockholm:20260901T190000
DTSTAMP:20260422T182730
CREATED:20260115T070715Z
LAST-MODIFIED:20260115T070715Z
UID:10001394-1788289200-1788289200@equmeniakyrkan.se
SUMMARY:Bibelsamtal och bön i Equmeniakyrkan
DESCRIPTION:
URL:https://equmeniakyrkan.se/tocksfors/kalender/bibelsamtal-och-bon-i-equmeniakyrkan-8/2026-09-01/
END:VEVENT
BEGIN:VEVENT
DTSTART;TZID=Europe/Stockholm:20260908T190000
DTEND;TZID=Europe/Stockholm:20260908T190000
DTSTAMP:20260422T182730
CREATED:20260115T070838Z
LAST-MODIFIED:20260115T070838Z
UID:10001431-1788894000-1788894000@equmeniakyrkan.se
SUMMARY:Bibelsamtal och bön i Pingstkyrkan
DESCRIPTION:
URL:https://equmeniakyrkan.se/tocksfors/kalender/bibelsamtal-och-bon-i-pingstkyrkan-5/2026-09-08/
END:VEVENT
BEGIN:VEVENT
DTSTART;TZID=Europe/Stockholm:20260915T190000
DTEND;TZID=Europe/Stockholm:20260915T190000
DTSTAMP:20260422T182730
CREATED:20260115T070715Z
LAST-MODIFIED:20260115T070715Z
UID:10001395-1789498800-1789498800@equmeniakyrkan.se
SUMMARY:Bibelsamtal och bön i Equmeniakyrkan
DESCRIPTION:
URL:https://equmeniakyrkan.se/tocksfors/kalender/bibelsamtal-och-bon-i-equmeniakyrkan-8/2026-09-15/
END:VEVENT
BEGIN:VEVENT
DTSTART;TZID=Europe/Stockholm:20260922T190000
DTEND;TZID=Europe/Stockholm:20260922T190000
DTSTAMP:20260422T182730
CREATED:20260115T070838Z
LAST-MODIFIED:20260115T070838Z
UID:10001432-1790103600-1790103600@equmeniakyrkan.se
SUMMARY:Bibelsamtal och bön i Pingstkyrkan
DESCRIPTION:
URL:https://equmeniakyrkan.se/tocksfors/kalender/bibelsamtal-och-bon-i-pingstkyrkan-5/2026-09-22/
END:VEVENT
BEGIN:VEVENT
DTSTART;TZID=Europe/Stockholm:20260929T190000
DTEND;TZID=Europe/Stockholm:20260929T190000
DTSTAMP:20260422T182730
CREATED:20260115T070715Z
LAST-MODIFIED:20260115T070715Z
UID:10001396-1790708400-1790708400@equmeniakyrkan.se
SUMMARY:Bibelsamtal och bön i Equmeniakyrkan
DESCRIPTION:
URL:https://equmeniakyrkan.se/tocksfors/kalender/bibelsamtal-och-bon-i-equmeniakyrkan-8/2026-09-29/
END:VEVENT
END:VCALENDAR