BEGIN:VCALENDAR
VERSION:2.0
PRODID:-//Equmeniakyrkan Upplands Väsby - ECPv6.15.18//NONSGML v1.0//EN
CALSCALE:GREGORIAN
METHOD:PUBLISH
X-WR-CALNAME:Equmeniakyrkan Upplands Väsby
X-ORIGINAL-URL:https://equmeniakyrkan.se/upplandsvasby
X-WR-CALDESC:Händelser för Equmeniakyrkan Upplands Väsby
REFRESH-INTERVAL;VALUE=DURATION:PT1H
X-Robots-Tag:noindex
X-PUBLISHED-TTL:PT1H
BEGIN:VTIMEZONE
TZID:Europe/Stockholm
BEGIN:DAYLIGHT
TZOFFSETFROM:+0100
TZOFFSETTO:+0200
TZNAME:CEST
DTSTART:20250330T010000
END:DAYLIGHT
BEGIN:STANDARD
TZOFFSETFROM:+0200
TZOFFSETTO:+0100
TZNAME:CET
DTSTART:20251026T010000
END:STANDARD
BEGIN:DAYLIGHT
TZOFFSETFROM:+0100
TZOFFSETTO:+0200
TZNAME:CEST
DTSTART:20260329T010000
END:DAYLIGHT
BEGIN:STANDARD
TZOFFSETFROM:+0200
TZOFFSETTO:+0100
TZNAME:CET
DTSTART:20261025T010000
END:STANDARD
BEGIN:DAYLIGHT
TZOFFSETFROM:+0100
TZOFFSETTO:+0200
TZNAME:CEST
DTSTART:20270328T010000
END:DAYLIGHT
BEGIN:STANDARD
TZOFFSETFROM:+0200
TZOFFSETTO:+0100
TZNAME:CET
DTSTART:20271031T010000
END:STANDARD
END:VTIMEZONE
BEGIN:VEVENT
DTSTART;TZID=Europe/Stockholm:20260421T130000
DTEND;TZID=Europe/Stockholm:20260421T143000
DTSTAMP:20260421T024917
CREATED:20260406T152643Z
LAST-MODIFIED:20260406T152644Z
UID:10003263-1776776400-1776781800@equmeniakyrkan.se
SUMMARY:Tisdagsträffen
DESCRIPTION:Välkommen till Tisdagsträffen! Varje tisdag kl. 13.00–14.30 \nEn mötesplats mitt i veckan för gemenskap\, samtal\, musik och andakt. Vi delar livet tillsammans i en varm och välkomnande gemenskap. Tisdagsträffen genomförs i samarbete med Studieförbundet Bilda. \nTisdag 21 april gästas vi av Gittan och Magnus Ramstrand. \nTa gärna med eget fika till vårt knytis.Du är varmt välkommen.
URL:https://equmeniakyrkan.se/upplandsvasby/kalender/tisdagstraffen-3-3/
CATEGORIES:Tisdagsträff
END:VEVENT
BEGIN:VEVENT
DTSTART;TZID=Europe/Stockholm:20260421T150000
DTEND;TZID=Europe/Stockholm:20260421T173000
DTSTAMP:20260421T024917
CREATED:20260108T123723Z
LAST-MODIFIED:20260108T123723Z
UID:10002714-1776783600-1776792600@equmeniakyrkan.se
SUMMARY:Eftis förskoleklass - mellanstadiet
DESCRIPTION:Välkommen till Eftis – för dig som går i förskoleklass upp till mellanstadiet.\nDrop in för scouter kl. 17.30:\nFör dig som först går på Eftis och sedan ska till scouterna kl. 18 går det bra att stanna innan scouterna börjar.
URL:https://equmeniakyrkan.se/upplandsvasby/kalender/eftis-forskoleklass-mellanstadiet/2026-04-21/
CATEGORIES:Equmenia
END:VEVENT
BEGIN:VEVENT
DTSTART;TZID=Europe/Stockholm:20260421T160000
DTEND;TZID=Europe/Stockholm:20260421T190000
DTSTAMP:20260421T024917
CREATED:20250101T124439Z
LAST-MODIFIED:20260408T072037Z
UID:10000738-1776787200-1776798000@equmeniakyrkan.se
SUMMARY:Språkcafé
DESCRIPTION:Språkcaféer finns till för dig som vill ha hjälp och stöd när du ska lära dig ett nytt språk. \nSpråkpromenader – tisdagar kl 15:00-16:00. \nSpråkcafé – tisdagar kl 16:00-19:00. \nAlla är välkomna!
URL:https://equmeniakyrkan.se/upplandsvasby/kalender/sprakcafe-3/2026-04-21/
CATEGORIES:Språkcafé
END:VEVENT
BEGIN:VEVENT
DTSTART;TZID=Europe/Stockholm:20260421T180000
DTEND;TZID=Europe/Stockholm:20260421T193000
DTSTAMP:20260421T024917
CREATED:20260108T124031Z
LAST-MODIFIED:20260108T124031Z
UID:10002971-1776794400-1776799800@equmeniakyrkan.se
SUMMARY:Scouter
DESCRIPTION:Scouter (8-12 år)\nTisdagar\, 18:00-19:30\nStart 10 februari. \nVälkommen att delta i vår scoutkår!\nHär får du prova på en massa nya saker varje dag\, oftast roliga men också saker som är väldigt bra att kunna.\nSom att tälja med kniv\, göra upp eld utomhus\, laga mat\, bygga kojor och mycket annat.\nPå scouterna lär vi oss genom att prova på saker på riktigt. \nNyfiken på att prova? Funderar du över något?\nHör av dig till scoutledare Anna-Karin Rönnblad\nMobil: 0739 47 69 44\ne-post: ako1982@gmail.com
URL:https://equmeniakyrkan.se/upplandsvasby/kalender/scouter/2026-04-21/
CATEGORIES:Equmenia
END:VEVENT
END:VCALENDAR