BEGIN:VCALENDAR
VERSION:2.0
PRODID:-//Vallakyrkan Degerfors - ECPv6.15.18//NONSGML v1.0//EN
CALSCALE:GREGORIAN
METHOD:PUBLISH
X-WR-CALNAME:Vallakyrkan Degerfors
X-ORIGINAL-URL:https://equmeniakyrkan.se/vallakyrkan
X-WR-CALDESC:Händelser för Vallakyrkan Degerfors
REFRESH-INTERVAL;VALUE=DURATION:PT1H
X-Robots-Tag:noindex
X-PUBLISHED-TTL:PT1H
BEGIN:VTIMEZONE
TZID:Europe/Stockholm
BEGIN:DAYLIGHT
TZOFFSETFROM:+0100
TZOFFSETTO:+0200
TZNAME:CEST
DTSTART:20250330T010000
END:DAYLIGHT
BEGIN:STANDARD
TZOFFSETFROM:+0200
TZOFFSETTO:+0100
TZNAME:CET
DTSTART:20251026T010000
END:STANDARD
BEGIN:DAYLIGHT
TZOFFSETFROM:+0100
TZOFFSETTO:+0200
TZNAME:CEST
DTSTART:20260329T010000
END:DAYLIGHT
BEGIN:STANDARD
TZOFFSETFROM:+0200
TZOFFSETTO:+0100
TZNAME:CET
DTSTART:20261025T010000
END:STANDARD
BEGIN:DAYLIGHT
TZOFFSETFROM:+0100
TZOFFSETTO:+0200
TZNAME:CEST
DTSTART:20270328T010000
END:DAYLIGHT
BEGIN:STANDARD
TZOFFSETFROM:+0200
TZOFFSETTO:+0100
TZNAME:CET
DTSTART:20271031T010000
END:STANDARD
END:VTIMEZONE
BEGIN:VEVENT
DTSTART;TZID=Europe/Stockholm:20260421T093000
DTEND;TZID=Europe/Stockholm:20260421T120000
DTSTAMP:20260422T085947
CREATED:20251215T103943Z
LAST-MODIFIED:20251215T103943Z
UID:10001015-1776763800-1776772800@equmeniakyrkan.se
SUMMARY:Kl.09.30 Walk & Talk
DESCRIPTION:Kl.09.30 Promenad\nKl.10-12  GemenskapsCafé
URL:https://equmeniakyrkan.se/vallakyrkan/kalender/kl-09-30-walk-talk-62/
END:VEVENT
END:VCALENDAR