BEGIN:VCALENDAR
VERSION:2.0
PRODID:-//Equmeniakyrkan Värmlandsnäs - ECPv6.15.18//NONSGML v1.0//EN
CALSCALE:GREGORIAN
METHOD:PUBLISH
X-WR-CALNAME:Equmeniakyrkan Värmlandsnäs
X-ORIGINAL-URL:https://equmeniakyrkan.se/varmlandsnas
X-WR-CALDESC:Händelser för Equmeniakyrkan Värmlandsnäs
REFRESH-INTERVAL;VALUE=DURATION:PT1H
X-Robots-Tag:noindex
X-PUBLISHED-TTL:PT1H
BEGIN:VTIMEZONE
TZID:Europe/Stockholm
BEGIN:DAYLIGHT
TZOFFSETFROM:+0100
TZOFFSETTO:+0200
TZNAME:CEST
DTSTART:20250330T010000
END:DAYLIGHT
BEGIN:STANDARD
TZOFFSETFROM:+0200
TZOFFSETTO:+0100
TZNAME:CET
DTSTART:20251026T010000
END:STANDARD
BEGIN:DAYLIGHT
TZOFFSETFROM:+0100
TZOFFSETTO:+0200
TZNAME:CEST
DTSTART:20260329T010000
END:DAYLIGHT
BEGIN:STANDARD
TZOFFSETFROM:+0200
TZOFFSETTO:+0100
TZNAME:CET
DTSTART:20261025T010000
END:STANDARD
BEGIN:DAYLIGHT
TZOFFSETFROM:+0100
TZOFFSETTO:+0200
TZNAME:CEST
DTSTART:20270328T010000
END:DAYLIGHT
BEGIN:STANDARD
TZOFFSETFROM:+0200
TZOFFSETTO:+0100
TZNAME:CET
DTSTART:20271031T010000
END:STANDARD
END:VTIMEZONE
BEGIN:VEVENT
DTSTART;TZID=Europe/Stockholm:20260424T180000
DTEND;TZID=Europe/Stockholm:20260424T210000
DTSTAMP:20260424T100455
CREATED:20260321T132455Z
LAST-MODIFIED:20260321T132455Z
UID:10001381-1777053600-1777064400@equmeniakyrkan.se
SUMMARY:TACO-kväll
DESCRIPTION:TACO-kväll för alla!!! \nVuxen 70 kr \nBarn (10-17 år) 30 kr \nBarn (0-9 år) 0 kr \nFamiljepris 150 kr \nFredaxbarn 10 kr \nAnmälan till Ulrika 070-272 16 31
URL:https://equmeniakyrkan.se/varmlandsnas/kalender/taco-kvall/
LOCATION:Sörbrokyrkan\, Allévägen 5\, Säffle\, 66191\, Sverige
GEO:59.183569807425;13.015521488867
X-APPLE-STRUCTURED-LOCATION;VALUE=URI;X-ADDRESS=Sörbrokyrkan Allévägen 5 Säffle 66191 Sverige;X-APPLE-RADIUS=500;X-TITLE=Allévägen 5:geo:13.015521488867,59.183569807425
END:VEVENT
BEGIN:VEVENT
DTSTART;TZID=Europe/Stockholm:20260424T180000
DTEND;TZID=Europe/Stockholm:20260424T220000
DTSTAMP:20260424T100455
CREATED:20260104T101122Z
LAST-MODIFIED:20260227T172131Z
UID:10000816-1777053600-1777068000@equmeniakyrkan.se
SUMMARY:Fredax
DESCRIPTION:Vi kommer spela spel\, soffhänga\, ha musikprojekt\, pyssla\, prata\, baka\, laga mat\, äta kvällsmat tillsammans och mycket mer. \nVälkomna alla som går i åk 4 – 9!
URL:https://equmeniakyrkan.se/varmlandsnas/kalender/fredax-2-2/2026-04-24/
LOCATION:Sörbrokyrkan\, Allévägen 5\, Säffle\, 66191\, Sverige
GEO:59.183569807425;13.015521488867
X-APPLE-STRUCTURED-LOCATION;VALUE=URI;X-ADDRESS=Sörbrokyrkan Allévägen 5 Säffle 66191 Sverige;X-APPLE-RADIUS=500;X-TITLE=Allévägen 5:geo:13.015521488867,59.183569807425
END:VEVENT
END:VCALENDAR