BEGIN:VCALENDAR
VERSION:2.0
PRODID:-//Värsås Missionsförsamling - ECPv6.15.18//NONSGML v1.0//EN
CALSCALE:GREGORIAN
METHOD:PUBLISH
X-WR-CALNAME:Värsås Missionsförsamling
X-ORIGINAL-URL:https://equmeniakyrkan.se/varsas
X-WR-CALDESC:Händelser för Värsås Missionsförsamling
REFRESH-INTERVAL;VALUE=DURATION:PT1H
X-Robots-Tag:noindex
X-PUBLISHED-TTL:PT1H
BEGIN:VTIMEZONE
TZID:Europe/Stockholm
BEGIN:DAYLIGHT
TZOFFSETFROM:+0100
TZOFFSETTO:+0200
TZNAME:CEST
DTSTART:20250330T010000
END:DAYLIGHT
BEGIN:STANDARD
TZOFFSETFROM:+0200
TZOFFSETTO:+0100
TZNAME:CET
DTSTART:20251026T010000
END:STANDARD
BEGIN:DAYLIGHT
TZOFFSETFROM:+0100
TZOFFSETTO:+0200
TZNAME:CEST
DTSTART:20260329T010000
END:DAYLIGHT
BEGIN:STANDARD
TZOFFSETFROM:+0200
TZOFFSETTO:+0100
TZNAME:CET
DTSTART:20261025T010000
END:STANDARD
BEGIN:DAYLIGHT
TZOFFSETFROM:+0100
TZOFFSETTO:+0200
TZNAME:CEST
DTSTART:20270328T010000
END:DAYLIGHT
BEGIN:STANDARD
TZOFFSETFROM:+0200
TZOFFSETTO:+0100
TZNAME:CET
DTSTART:20271031T010000
END:STANDARD
END:VTIMEZONE
BEGIN:VEVENT
DTSTART;TZID=Europe/Stockholm:20260422T130000
DTEND;TZID=Europe/Stockholm:20260422T163000
DTSTAMP:20260423T151353
CREATED:20260224T154800Z
LAST-MODIFIED:20260224T154800Z
UID:10001504-1776862800-1776875400@equmeniakyrkan.se
SUMMARY:Stavgång på Mösseberg
DESCRIPTION:Vi åker till Falköping och Mössebergsgården. Går en runda och äter sedan lunch där. Lennart Peterson berättar om gårdens historia. Sedan åker vi till Vilske Kleva och ”Nostalgimuseet”.
URL:https://equmeniakyrkan.se/varsas/kalender/stavgang-pa-mosseberg/
END:VEVENT
END:VCALENDAR