BEGIN:VCALENDAR
VERSION:2.0
PRODID:-//Vinslövs Missionsförsamling - ECPv6.15.18//NONSGML v1.0//EN
CALSCALE:GREGORIAN
METHOD:PUBLISH
X-WR-CALNAME:Vinslövs Missionsförsamling
X-ORIGINAL-URL:https://equmeniakyrkan.se/vinslov
X-WR-CALDESC:Händelser för Vinslövs Missionsförsamling
REFRESH-INTERVAL;VALUE=DURATION:PT1H
X-Robots-Tag:noindex
X-PUBLISHED-TTL:PT1H
BEGIN:VTIMEZONE
TZID:Europe/Stockholm
BEGIN:DAYLIGHT
TZOFFSETFROM:+0100
TZOFFSETTO:+0200
TZNAME:CEST
DTSTART:20250330T010000
END:DAYLIGHT
BEGIN:STANDARD
TZOFFSETFROM:+0200
TZOFFSETTO:+0100
TZNAME:CET
DTSTART:20251026T010000
END:STANDARD
BEGIN:DAYLIGHT
TZOFFSETFROM:+0100
TZOFFSETTO:+0200
TZNAME:CEST
DTSTART:20260329T010000
END:DAYLIGHT
BEGIN:STANDARD
TZOFFSETFROM:+0200
TZOFFSETTO:+0100
TZNAME:CET
DTSTART:20261025T010000
END:STANDARD
BEGIN:DAYLIGHT
TZOFFSETFROM:+0100
TZOFFSETTO:+0200
TZNAME:CEST
DTSTART:20270328T010000
END:DAYLIGHT
BEGIN:STANDARD
TZOFFSETFROM:+0200
TZOFFSETTO:+0100
TZNAME:CET
DTSTART:20271031T010000
END:STANDARD
END:VTIMEZONE
BEGIN:VEVENT
DTSTART;TZID=Europe/Stockholm:20260426T170000
DTEND;TZID=Europe/Stockholm:20260426T180000
DTSTAMP:20260423T143148
CREATED:20260406T170025Z
LAST-MODIFIED:20260422T065035Z
UID:10003068-1777222800-1777226400@equmeniakyrkan.se
SUMMARY:Kvällsgudstjänst Missionskyrkan
DESCRIPTION:Joachim Nilsson och Bertil Jönsson.
URL:https://equmeniakyrkan.se/vinslov/kalender/kvallsgudstjanst-missionskyrkan/
END:VEVENT
BEGIN:VEVENT
DTSTART;TZID=Europe/Stockholm:20260428T100000
DTEND;TZID=Europe/Stockholm:20260428T110000
DTSTAMP:20260423T143148
CREATED:20250816T084124Z
LAST-MODIFIED:20260420T131726Z
UID:10002902-1777370400-1777374000@equmeniakyrkan.se
SUMMARY:Bibel och Bön
DESCRIPTION:Vi läser Bibeln\, samtalar och ber.
URL:https://equmeniakyrkan.se/vinslov/kalender/bibel-och-bon-13/2026-04-28/
ATTACH;FMTTYPE=image/jpeg:https://equmeniakyrkan.se/vinslov/wp-content/uploads/sites/30/2025/08/rod-long-drgrzqqsjda-unsplash-scaled.jpg
END:VEVENT
BEGIN:VEVENT
DTSTART;TZID=Europe/Stockholm:20260428T140000
DTEND;TZID=Europe/Stockholm:20260428T160000
DTSTAMP:20260423T143148
CREATED:20260406T170734Z
LAST-MODIFIED:20260406T170734Z
UID:10003069-1777384800-1777392000@equmeniakyrkan.se
SUMMARY:Gemensam Dagledigträff
DESCRIPTION:Välkomna till Kyrkans hus Vinslöv \nMaria Troberg från Törnqvist Handelsträdgård ger inspiration inför sommaren bukettbindningar.
URL:https://equmeniakyrkan.se/vinslov/kalender/gemensam-dagledigtraff/
END:VEVENT
BEGIN:VEVENT
DTSTART;TZID=Europe/Stockholm:20260429T173000
DTEND;TZID=Europe/Stockholm:20260429T181500
DTSTAMP:20260423T143148
CREATED:20260104T070928Z
LAST-MODIFIED:20260104T070955Z
UID:10003042-1777483800-1777486500@equmeniakyrkan.se
SUMMARY:Joykids
DESCRIPTION:Körövning för barn upp t o m årskurs 3.
URL:https://equmeniakyrkan.se/vinslov/kalender/joykids-15/2026-04-29/
ATTACH;FMTTYPE=image/jpeg:https://equmeniakyrkan.se/vinslov/wp-content/uploads/sites/30/2022/01/flower-g282ec2955-1920.jpg
END:VEVENT
BEGIN:VEVENT
DTSTART;TZID=Europe/Stockholm:20260429T181500
DTEND;TZID=Europe/Stockholm:20260429T190000
DTSTAMP:20260423T143148
CREATED:20260104T070748Z
LAST-MODIFIED:20260104T070819Z
UID:10003034-1777486500-1777489200@equmeniakyrkan.se
SUMMARY:Step of Joy
DESCRIPTION:Körövning för barn från och med årskurs 4.
URL:https://equmeniakyrkan.se/vinslov/kalender/step-of-joy-15/2026-04-29/
ATTACH;FMTTYPE=image/jpeg:https://equmeniakyrkan.se/vinslov/wp-content/uploads/sites/30/2017/01/vitsippa.jpg
END:VEVENT
BEGIN:VEVENT
DTSTART;TZID=Europe/Stockholm:20260503T100000
DTEND;TZID=Europe/Stockholm:20260503T110000
DTSTAMP:20260423T143148
CREATED:20260407T200532Z
LAST-MODIFIED:20260407T200532Z
UID:10003070-1777802400-1777806000@equmeniakyrkan.se
SUMMARY:Gudstjänst med nattvard
DESCRIPTION:Britt-Marie Kaldéus-G:son och Kerstin Rönn \nKollekt till Nationella insamlingen
URL:https://equmeniakyrkan.se/vinslov/kalender/gudstjanst-med-nattvard-31/
END:VEVENT
BEGIN:VEVENT
DTSTART;TZID=Europe/Stockholm:20260505T100000
DTEND;TZID=Europe/Stockholm:20260505T110000
DTSTAMP:20260423T143148
CREATED:20250816T084124Z
LAST-MODIFIED:20260420T131726Z
UID:10002903-1777975200-1777978800@equmeniakyrkan.se
SUMMARY:Bibel och Bön
DESCRIPTION:Vi läser Bibeln\, samtalar och ber.
URL:https://equmeniakyrkan.se/vinslov/kalender/bibel-och-bon-13/2026-05-05/
ATTACH;FMTTYPE=image/jpeg:https://equmeniakyrkan.se/vinslov/wp-content/uploads/sites/30/2025/08/rod-long-drgrzqqsjda-unsplash-scaled.jpg
END:VEVENT
BEGIN:VEVENT
DTSTART;TZID=Europe/Stockholm:20260505T133000
DTEND;TZID=Europe/Stockholm:20260505T153000
DTSTAMP:20260423T143148
CREATED:20250816T083722Z
LAST-MODIFIED:20260407T202852Z
UID:10002999-1777987800-1777995000@equmeniakyrkan.se
SUMMARY:Stickcafé och Flitiga fingrar
DESCRIPTION:Gruppen Stickcafé / Flitiga fingrar rullar förband av lakan. Koftor och babyfiltar stickas och en god gemenskap vid kaffebordet under eftermiddagen. \nGlädjen över att få vara med en eftermiddag går inte att ta fel på! \n 
URL:https://equmeniakyrkan.se/vinslov/kalender/stickcafe-och-flitiga-fingrar-3/2026-05-05/
ATTACH;FMTTYPE=image/jpeg:https://equmeniakyrkan.se/vinslov/wp-content/uploads/sites/30/2022/01/knit-g0c8ea2843-1920.jpg
END:VEVENT
BEGIN:VEVENT
DTSTART;TZID=Europe/Stockholm:20260510T170000
DTEND;TZID=Europe/Stockholm:20260510T190000
DTSTAMP:20260423T143149
CREATED:20260407T201157Z
LAST-MODIFIED:20260420T132429Z
UID:10003071-1778432400-1778439600@equmeniakyrkan.se
SUMMARY:Vårkonsert: Let me hear you sing
DESCRIPTION:Medverkande: Joykids\, Step of Joy\, Joysing\, Dansbruket\, musiker \nBiljetter köps på plats\, vuxna: 100 kr\, barn 50 kr (upp till 10 år gratis)
URL:https://equmeniakyrkan.se/vinslov/kalender/varkonsert-5/
ATTACH;FMTTYPE=image/jpeg:https://equmeniakyrkan.se/vinslov/wp-content/uploads/sites/30/2026/04/varkonsert-affisch-2026.jpg
END:VEVENT
BEGIN:VEVENT
DTSTART;TZID=Europe/Stockholm:20260512T100000
DTEND;TZID=Europe/Stockholm:20260512T110000
DTSTAMP:20260423T143149
CREATED:20250816T084124Z
LAST-MODIFIED:20260420T131726Z
UID:10002904-1778580000-1778583600@equmeniakyrkan.se
SUMMARY:Bibel och Bön
DESCRIPTION:Vi läser Bibeln\, samtalar och ber.
URL:https://equmeniakyrkan.se/vinslov/kalender/bibel-och-bon-13/2026-05-12/
ATTACH;FMTTYPE=image/jpeg:https://equmeniakyrkan.se/vinslov/wp-content/uploads/sites/30/2025/08/rod-long-drgrzqqsjda-unsplash-scaled.jpg
END:VEVENT
BEGIN:VEVENT
DTSTART;TZID=Europe/Stockholm:20260512T133000
DTEND;TZID=Europe/Stockholm:20260512T153000
DTSTAMP:20260423T143149
CREATED:20250816T083722Z
LAST-MODIFIED:20260407T202852Z
UID:10003000-1778592600-1778599800@equmeniakyrkan.se
SUMMARY:Stickcafé och Flitiga fingrar
DESCRIPTION:Gruppen Stickcafé / Flitiga fingrar rullar förband av lakan. Koftor och babyfiltar stickas och en god gemenskap vid kaffebordet under eftermiddagen. \nGlädjen över att få vara med en eftermiddag går inte att ta fel på! \n 
URL:https://equmeniakyrkan.se/vinslov/kalender/stickcafe-och-flitiga-fingrar-3/2026-05-12/
ATTACH;FMTTYPE=image/jpeg:https://equmeniakyrkan.se/vinslov/wp-content/uploads/sites/30/2022/01/knit-g0c8ea2843-1920.jpg
END:VEVENT
BEGIN:VEVENT
DTSTART;TZID=Europe/Stockholm:20260517T100000
DTEND;TZID=Europe/Stockholm:20260517T110000
DTSTAMP:20260423T143149
CREATED:20260407T201608Z
LAST-MODIFIED:20260407T201608Z
UID:10003072-1779012000-1779015600@equmeniakyrkan.se
SUMMARY:Cafégudstjänst
DESCRIPTION:Agneta Almqvist och Mimmi Tillgren
URL:https://equmeniakyrkan.se/vinslov/kalender/cafegudstjanst-20/
END:VEVENT
BEGIN:VEVENT
DTSTART;TZID=Europe/Stockholm:20260519T100000
DTEND;TZID=Europe/Stockholm:20260519T110000
DTSTAMP:20260423T143149
CREATED:20250816T084124Z
LAST-MODIFIED:20260420T131726Z
UID:10002905-1779184800-1779188400@equmeniakyrkan.se
SUMMARY:Bibel och Bön
DESCRIPTION:Vi läser Bibeln\, samtalar och ber.
URL:https://equmeniakyrkan.se/vinslov/kalender/bibel-och-bon-13/2026-05-19/
ATTACH;FMTTYPE=image/jpeg:https://equmeniakyrkan.se/vinslov/wp-content/uploads/sites/30/2025/08/rod-long-drgrzqqsjda-unsplash-scaled.jpg
END:VEVENT
BEGIN:VEVENT
DTSTART;TZID=Europe/Stockholm:20260519T133000
DTEND;TZID=Europe/Stockholm:20260519T153000
DTSTAMP:20260423T143149
CREATED:20250816T083722Z
LAST-MODIFIED:20260407T202852Z
UID:10003001-1779197400-1779204600@equmeniakyrkan.se
SUMMARY:Stickcafé och Flitiga fingrar
DESCRIPTION:Gruppen Stickcafé / Flitiga fingrar rullar förband av lakan. Koftor och babyfiltar stickas och en god gemenskap vid kaffebordet under eftermiddagen. \nGlädjen över att få vara med en eftermiddag går inte att ta fel på! \n 
URL:https://equmeniakyrkan.se/vinslov/kalender/stickcafe-och-flitiga-fingrar-3/2026-05-19/
ATTACH;FMTTYPE=image/jpeg:https://equmeniakyrkan.se/vinslov/wp-content/uploads/sites/30/2022/01/knit-g0c8ea2843-1920.jpg
END:VEVENT
BEGIN:VEVENT
DTSTART;TZID=Europe/Stockholm:20260524T100000
DTEND;TZID=Europe/Stockholm:20260524T110000
DTSTAMP:20260423T143149
CREATED:20260407T202118Z
LAST-MODIFIED:20260407T202118Z
UID:10003073-1779616800-1779620400@equmeniakyrkan.se
SUMMARY:Gudstjänst
DESCRIPTION:Britt-Marie Kaldéus G:son\, Maria Ingvarsdotter och Birgitta Hardefors
URL:https://equmeniakyrkan.se/vinslov/kalender/gudstjanst-110/
END:VEVENT
BEGIN:VEVENT
DTSTART;TZID=Europe/Stockholm:20260526T100000
DTEND;TZID=Europe/Stockholm:20260526T110000
DTSTAMP:20260423T143149
CREATED:20250816T084124Z
LAST-MODIFIED:20260420T131726Z
UID:10002906-1779789600-1779793200@equmeniakyrkan.se
SUMMARY:Bibel och Bön
DESCRIPTION:Vi läser Bibeln\, samtalar och ber.
URL:https://equmeniakyrkan.se/vinslov/kalender/bibel-och-bon-13/2026-05-26/
ATTACH;FMTTYPE=image/jpeg:https://equmeniakyrkan.se/vinslov/wp-content/uploads/sites/30/2025/08/rod-long-drgrzqqsjda-unsplash-scaled.jpg
END:VEVENT
BEGIN:VEVENT
DTSTART;TZID=Europe/Stockholm:20260526T140000
DTEND;TZID=Europe/Stockholm:20260526T150000
DTSTAMP:20260423T143149
CREATED:20260407T203415Z
LAST-MODIFIED:20260409T204650Z
UID:10003074-1779804000-1779807600@equmeniakyrkan.se
SUMMARY:Gemensam dagledigträff i Missionskyrkan
DESCRIPTION:Sommaravslutning \n”Ekberg i våra hjärtan”. \nGlenn Bengtsson tenor\, och Rune Lindqvist piano\, spelar och sjunger sånger av Einar Ekberg.
URL:https://equmeniakyrkan.se/vinslov/kalender/gemensam-dagledigtraff-i-missionskyrkan/
END:VEVENT
BEGIN:VEVENT
DTSTART;TZID=Europe/Stockholm:20260531T100000
DTEND;TZID=Europe/Stockholm:20260531T110000
DTSTAMP:20260423T143149
CREATED:20260407T203938Z
LAST-MODIFIED:20260407T203938Z
UID:10003076-1780221600-1780225200@equmeniakyrkan.se
SUMMARY:Gudstjänst med Vittnesbörd och Bönevandring
DESCRIPTION:Kerstin och Sven-Gunnar Mohlin
URL:https://equmeniakyrkan.se/vinslov/kalender/gudstjanst-med-vittnesbord-och-bonevandring/
END:VEVENT
BEGIN:VEVENT
DTSTART;TZID=Europe/Stockholm:20260602T100000
DTEND;TZID=Europe/Stockholm:20260602T110000
DTSTAMP:20260423T143149
CREATED:20250816T084124Z
LAST-MODIFIED:20260420T131726Z
UID:10002907-1780394400-1780398000@equmeniakyrkan.se
SUMMARY:Bibel och Bön
DESCRIPTION:Vi läser Bibeln\, samtalar och ber.
URL:https://equmeniakyrkan.se/vinslov/kalender/bibel-och-bon-13/2026-06-02/
ATTACH;FMTTYPE=image/jpeg:https://equmeniakyrkan.se/vinslov/wp-content/uploads/sites/30/2025/08/rod-long-drgrzqqsjda-unsplash-scaled.jpg
END:VEVENT
BEGIN:VEVENT
DTSTART;TZID=Europe/Stockholm:20260602T133000
DTEND;TZID=Europe/Stockholm:20260602T153000
DTSTAMP:20260423T143149
CREATED:20250816T083722Z
LAST-MODIFIED:20260407T202852Z
UID:10003003-1780407000-1780414200@equmeniakyrkan.se
SUMMARY:Stickcafé och Flitiga fingrar
DESCRIPTION:Gruppen Stickcafé / Flitiga fingrar rullar förband av lakan. Koftor och babyfiltar stickas och en god gemenskap vid kaffebordet under eftermiddagen. \nGlädjen över att få vara med en eftermiddag går inte att ta fel på! \n 
URL:https://equmeniakyrkan.se/vinslov/kalender/stickcafe-och-flitiga-fingrar-3/2026-06-02/
ATTACH;FMTTYPE=image/jpeg:https://equmeniakyrkan.se/vinslov/wp-content/uploads/sites/30/2022/01/knit-g0c8ea2843-1920.jpg
END:VEVENT
BEGIN:VEVENT
DTSTART;TZID=Europe/Stockholm:20260609T100000
DTEND;TZID=Europe/Stockholm:20260609T110000
DTSTAMP:20260423T143149
CREATED:20250816T084124Z
LAST-MODIFIED:20260420T131726Z
UID:10002908-1780999200-1781002800@equmeniakyrkan.se
SUMMARY:Bibel och Bön
DESCRIPTION:Vi läser Bibeln\, samtalar och ber.
URL:https://equmeniakyrkan.se/vinslov/kalender/bibel-och-bon-13/2026-06-09/
ATTACH;FMTTYPE=image/jpeg:https://equmeniakyrkan.se/vinslov/wp-content/uploads/sites/30/2025/08/rod-long-drgrzqqsjda-unsplash-scaled.jpg
END:VEVENT
BEGIN:VEVENT
DTSTART;TZID=Europe/Stockholm:20260609T133000
DTEND;TZID=Europe/Stockholm:20260609T153000
DTSTAMP:20260423T143149
CREATED:20250816T083722Z
LAST-MODIFIED:20260407T202852Z
UID:10003004-1781011800-1781019000@equmeniakyrkan.se
SUMMARY:Stickcafé och Flitiga fingrar
DESCRIPTION:Gruppen Stickcafé / Flitiga fingrar rullar förband av lakan. Koftor och babyfiltar stickas och en god gemenskap vid kaffebordet under eftermiddagen. \nGlädjen över att få vara med en eftermiddag går inte att ta fel på! \n 
URL:https://equmeniakyrkan.se/vinslov/kalender/stickcafe-och-flitiga-fingrar-3/2026-06-09/
ATTACH;FMTTYPE=image/jpeg:https://equmeniakyrkan.se/vinslov/wp-content/uploads/sites/30/2022/01/knit-g0c8ea2843-1920.jpg
END:VEVENT
BEGIN:VEVENT
DTSTART;TZID=Europe/Stockholm:20260616T100000
DTEND;TZID=Europe/Stockholm:20260616T110000
DTSTAMP:20260423T143149
CREATED:20250816T084124Z
LAST-MODIFIED:20260420T131726Z
UID:10002909-1781604000-1781607600@equmeniakyrkan.se
SUMMARY:Bibel och Bön
DESCRIPTION:Vi läser Bibeln\, samtalar och ber.
URL:https://equmeniakyrkan.se/vinslov/kalender/bibel-och-bon-13/2026-06-16/
ATTACH;FMTTYPE=image/jpeg:https://equmeniakyrkan.se/vinslov/wp-content/uploads/sites/30/2025/08/rod-long-drgrzqqsjda-unsplash-scaled.jpg
END:VEVENT
BEGIN:VEVENT
DTSTART;TZID=Europe/Stockholm:20260616T133000
DTEND;TZID=Europe/Stockholm:20260616T153000
DTSTAMP:20260423T143149
CREATED:20250816T083722Z
LAST-MODIFIED:20260407T202852Z
UID:10003005-1781616600-1781623800@equmeniakyrkan.se
SUMMARY:Stickcafé och Flitiga fingrar
DESCRIPTION:Gruppen Stickcafé / Flitiga fingrar rullar förband av lakan. Koftor och babyfiltar stickas och en god gemenskap vid kaffebordet under eftermiddagen. \nGlädjen över att få vara med en eftermiddag går inte att ta fel på! \n 
URL:https://equmeniakyrkan.se/vinslov/kalender/stickcafe-och-flitiga-fingrar-3/2026-06-16/
ATTACH;FMTTYPE=image/jpeg:https://equmeniakyrkan.se/vinslov/wp-content/uploads/sites/30/2022/01/knit-g0c8ea2843-1920.jpg
END:VEVENT
BEGIN:VEVENT
DTSTART;TZID=Europe/Stockholm:20260623T100000
DTEND;TZID=Europe/Stockholm:20260623T110000
DTSTAMP:20260423T143149
CREATED:20250816T084124Z
LAST-MODIFIED:20260420T131726Z
UID:10002910-1782208800-1782212400@equmeniakyrkan.se
SUMMARY:Bibel och Bön
DESCRIPTION:Vi läser Bibeln\, samtalar och ber.
URL:https://equmeniakyrkan.se/vinslov/kalender/bibel-och-bon-13/2026-06-23/
ATTACH;FMTTYPE=image/jpeg:https://equmeniakyrkan.se/vinslov/wp-content/uploads/sites/30/2025/08/rod-long-drgrzqqsjda-unsplash-scaled.jpg
END:VEVENT
BEGIN:VEVENT
DTSTART;TZID=Europe/Stockholm:20260630T100000
DTEND;TZID=Europe/Stockholm:20260630T110000
DTSTAMP:20260423T143149
CREATED:20250816T084124Z
LAST-MODIFIED:20260420T131726Z
UID:10002911-1782813600-1782817200@equmeniakyrkan.se
SUMMARY:Bibel och Bön
DESCRIPTION:Vi läser Bibeln\, samtalar och ber.
URL:https://equmeniakyrkan.se/vinslov/kalender/bibel-och-bon-13/2026-06-30/
ATTACH;FMTTYPE=image/jpeg:https://equmeniakyrkan.se/vinslov/wp-content/uploads/sites/30/2025/08/rod-long-drgrzqqsjda-unsplash-scaled.jpg
END:VEVENT
BEGIN:VEVENT
DTSTART;TZID=Europe/Stockholm:20260707T100000
DTEND;TZID=Europe/Stockholm:20260707T110000
DTSTAMP:20260423T143149
CREATED:20250816T084124Z
LAST-MODIFIED:20260420T131726Z
UID:10002912-1783418400-1783422000@equmeniakyrkan.se
SUMMARY:Bibel och Bön
DESCRIPTION:Vi läser Bibeln\, samtalar och ber.
URL:https://equmeniakyrkan.se/vinslov/kalender/bibel-och-bon-13/2026-07-07/
ATTACH;FMTTYPE=image/jpeg:https://equmeniakyrkan.se/vinslov/wp-content/uploads/sites/30/2025/08/rod-long-drgrzqqsjda-unsplash-scaled.jpg
END:VEVENT
BEGIN:VEVENT
DTSTART;TZID=Europe/Stockholm:20260714T100000
DTEND;TZID=Europe/Stockholm:20260714T110000
DTSTAMP:20260423T143149
CREATED:20250816T084124Z
LAST-MODIFIED:20260420T131726Z
UID:10002913-1784023200-1784026800@equmeniakyrkan.se
SUMMARY:Bibel och Bön
DESCRIPTION:Vi läser Bibeln\, samtalar och ber.
URL:https://equmeniakyrkan.se/vinslov/kalender/bibel-och-bon-13/2026-07-14/
ATTACH;FMTTYPE=image/jpeg:https://equmeniakyrkan.se/vinslov/wp-content/uploads/sites/30/2025/08/rod-long-drgrzqqsjda-unsplash-scaled.jpg
END:VEVENT
BEGIN:VEVENT
DTSTART;TZID=Europe/Stockholm:20260721T100000
DTEND;TZID=Europe/Stockholm:20260721T110000
DTSTAMP:20260423T143149
CREATED:20250816T084124Z
LAST-MODIFIED:20260420T131726Z
UID:10002914-1784628000-1784631600@equmeniakyrkan.se
SUMMARY:Bibel och Bön
DESCRIPTION:Vi läser Bibeln\, samtalar och ber.
URL:https://equmeniakyrkan.se/vinslov/kalender/bibel-och-bon-13/2026-07-21/
ATTACH;FMTTYPE=image/jpeg:https://equmeniakyrkan.se/vinslov/wp-content/uploads/sites/30/2025/08/rod-long-drgrzqqsjda-unsplash-scaled.jpg
END:VEVENT
BEGIN:VEVENT
DTSTART;TZID=Europe/Stockholm:20260728T100000
DTEND;TZID=Europe/Stockholm:20260728T110000
DTSTAMP:20260423T143149
CREATED:20250816T084124Z
LAST-MODIFIED:20260420T131726Z
UID:10002915-1785232800-1785236400@equmeniakyrkan.se
SUMMARY:Bibel och Bön
DESCRIPTION:Vi läser Bibeln\, samtalar och ber.
URL:https://equmeniakyrkan.se/vinslov/kalender/bibel-och-bon-13/2026-07-28/
ATTACH;FMTTYPE=image/jpeg:https://equmeniakyrkan.se/vinslov/wp-content/uploads/sites/30/2025/08/rod-long-drgrzqqsjda-unsplash-scaled.jpg
END:VEVENT
END:VCALENDAR