BEGIN:VCALENDAR
VERSION:2.0
PRODID:-//Equmeniakyrkan Visnum - ECPv6.15.18//NONSGML v1.0//EN
CALSCALE:GREGORIAN
METHOD:PUBLISH
X-WR-CALNAME:Equmeniakyrkan Visnum
X-ORIGINAL-URL:https://equmeniakyrkan.se/visnum
X-WR-CALDESC:Händelser för Equmeniakyrkan Visnum
REFRESH-INTERVAL;VALUE=DURATION:PT1H
X-Robots-Tag:noindex
X-PUBLISHED-TTL:PT1H
BEGIN:VTIMEZONE
TZID:Europe/Stockholm
BEGIN:DAYLIGHT
TZOFFSETFROM:+0100
TZOFFSETTO:+0200
TZNAME:CEST
DTSTART:20250330T010000
END:DAYLIGHT
BEGIN:STANDARD
TZOFFSETFROM:+0200
TZOFFSETTO:+0100
TZNAME:CET
DTSTART:20251026T010000
END:STANDARD
BEGIN:DAYLIGHT
TZOFFSETFROM:+0100
TZOFFSETTO:+0200
TZNAME:CEST
DTSTART:20260329T010000
END:DAYLIGHT
BEGIN:STANDARD
TZOFFSETFROM:+0200
TZOFFSETTO:+0100
TZNAME:CET
DTSTART:20261025T010000
END:STANDARD
BEGIN:DAYLIGHT
TZOFFSETFROM:+0100
TZOFFSETTO:+0200
TZNAME:CEST
DTSTART:20270328T010000
END:DAYLIGHT
BEGIN:STANDARD
TZOFFSETFROM:+0200
TZOFFSETTO:+0100
TZNAME:CET
DTSTART:20271031T010000
END:STANDARD
END:VTIMEZONE
BEGIN:VEVENT
DTSTART;TZID=Europe/Stockholm:20260420T090000
DTEND;TZID=Europe/Stockholm:20260420T130000
DTSTAMP:20260420T020012
CREATED:20260121T151418Z
LAST-MODIFIED:20260121T151707Z
UID:10000665-1776675600-1776690000@equmeniakyrkan.se
SUMMARY:Öppen Förskola
DESCRIPTION:ÖPPNA FÖRSKOLAN \nÖppen förskola i Vike missionshus måndagar 9-13 \nsångstund 10.00 \nVi fikar\, leker och har det bra. \nVid frågor kontakta Sofia 076-780 58 78
URL:https://equmeniakyrkan.se/visnum/kalender/oppen-forskola-4/2026-04-20/
LOCATION:Vike Missionshus\, Kristinehamn\, Värmland\, 68193\, Sweden
CATEGORIES:Equmenia,Öppen förskola
GEO:59.200971821152;14.101467193145
END:VEVENT
END:VCALENDAR